{"text_format":"2","workbook":"xlsx","n_sheets":3,"sheets":["Calculation","Upload","Help"],"not_rendered":{"charts":0,"images":0,"macros":0,"external_links":0,"defined_names":2,"comments":0,"pivot_tables":0},"unopened":[],"bounds":{"document_bytes":16777216,"sheet_cells":100000,"run_cost":"one","rows_first":2000,"rows_last":500,"rows_between":2000,"halvings":0,"cell_chars":16384,"cell_head_chars":4096},"cells_cut":0,"cells_raw":0,"read":"whole","date_system":"1900"}

{"sheet":"Calculation","index":0,"n_rows":333,"n_cols":11,"rows_kept":333,"cut":false,"hidden":false,"merged":[]}
[]
[1,2,3,4,5,6,7,8,9,10,11]
["MM/YYYY","Basic+D.A.","Pensionable\nSalary","Pension Contribution On Basic+D.A.","Pension Contribution from\nemployee @ 1.16% of the difference of wages and 15000, for the wage months on or after Sept 2014 (Live Emp)","Pension Contribution On Pensionable Salary (Paid by the\nemployer earlier)","Difference Of Pension Contribution","MRB","Interest On Pension Contribution","Pension Contribution Amount with Interest","PF\nInterest\nRate (%) as per EPFO"]
["1995-11-01",2111,5000,{"$f":"ROUND(B4*8.33%,0)","v":176},0,176,{"$f":"D4+E4-F4","v":0},0,{"$f":"ROUND(H4*K4/12,0)","v":0},{"$f":"G4+I4","v":0},0.12]
["1995-12-01",4271,5000,356,0,356,{"$f":"D5+E5-F5","v":0},{"$f":"H4+G4","v":0},{"$f":"ROUND(H5*K5/12,0)","v":0},{"$f":"G5+I5","v":0},0.12]
["1996-01-01",4373,5000,364,0,364,0,{"$f":"H5+G5","v":0},0,0,0.12]
["1996-02-01",4012,5000,334,0,334,0,{"$f":"H6+G6","v":0},0,0,0.12]
["1996-03-01",4280,5000,357,0,357,0,{"$f":"H7+G7+SUM(I4:I7)","v":0},0,0,0.12]
["1996-04-01",4229,5000,352,0,352,0,{"$f":"H8+G8","v":0},{"$f":"ROUND(H9*K9/12,0)","v":0},0,0.12]
["1996-05-01",4423,5000,368,0,368,0,0,0,0,0.12]
["1996-06-01",4384,5000,365,0,365,0,0,0,0,0.12]
["1996-07-01",4536,5000,378,0,378,0,0,0,0,0.12]
["1996-08-01",4566,5000,380,0,380,0,0,0,0,0.12]
["1996-09-01",4378,5000,365,0,365,0,0,0,0,0.12]
["1996-10-01",4543,5000,378,0,378,0,0,0,0,0.12]
["1996-11-01",4474,5000,373,0,373,0,0,0,0,0.12]
["1996-12-01",4597,5000,383,0,383,0,0,0,0,0.12]
["1997-01-01",4633,5000,386,0,386,0,0,0,0,0.12]
["1997-02-01",4371,5000,364,0,364,0,0,0,0,0.12]
["1997-03-01",4683,5000,390,0,390,0,{"$f":"H19+G19+SUM(I8:I19)","v":0},0,0,0.12]
["1997-04-01",4642,5000,387,0,387,0,0,0,0,0.12]
["1997-05-01",4715,5000,393,0,393,0,0,0,0,0.12]
["1997-06-01",14153,5000,{"$f":"ROUND(B23*8.33%,0)","v":1179},0,417,{"$f":"D23+E23-F23","v":762},0,{"$f":"ROUND(H23*K23/12,0)","v":0},{"$f":"G23+I23","v":762},0.12]
["1997-07-01",5533,5000,461,0,417,{"$f":"D24+E24-F24","v":44},{"$f":"H23+G23","v":762},{"$f":"ROUND(H24*K24/12,0)","v":8},52,0.12]
["1997-08-01",5743,5000,478,0,417,61,{"$f":"H24+G24","v":806},{"$f":"ROUND(H25*K25/12,0)","v":8},69,0.12]
["1997-09-01",5727,5000,477,0,417,60,867,9,69,0.12]
["1997-10-01",5743,5000,478,0,417,61,927,9,70,0.12]
["1997-11-01",5811,5000,484,0,417,67,988,10,77,0.12]
["1997-12-01",5908,5000,492,0,417,75,1055,11,86,0.12]
["1998-01-01",5875,5000,489,0,417,72,1130,11,83,0.12]
["1998-02-01",6071,5000,506,0,417,89,1202,12,101,0.12]
["1998-03-01",6167,5000,514,0,417,97,{"$f":"H31+G31+SUM(I20:I31)","v":1369},14,111,0.12]
["1998-04-01",6294,5000,524,0,417,107,1466,15,122,0.12]
["1998-05-01",6283,5000,523,0,417,106,1573,16,122,0.12]
["1998-06-01",6391,5000,532,0,417,115,1679,17,132,0.12]
["1998-07-01",6547,5000,545,0,417,128,1794,18,146,0.12]
["1998-08-01",6650,5000,554,0,417,137,1922,19,156,0.12]
["1998-09-01",6830,5000,569,0,417,152,2059,21,173,0.12]
["1998-10-01",6811,5000,567,0,417,150,2211,22,172,0.12]
["1998-11-01",6243,5000,520,0,417,103,2361,24,127,0.12]
["1998-12-01",7058,5000,588,0,417,171,2464,25,196,0.12]
["1999-01-01",6931,5000,577,0,417,160,2635,26,186,0.12]
["1999-02-01",7320,5000,610,0,417,193,2795,28,221,0.12]
["1999-03-01",6935,5000,578,0,417,161,{"$f":"H43+G43+SUM(I32:I43)","v":3233},{"$f":"ROUND(H44*K44/12,0)","v":32},193,0.12]
["1999-04-01",6865,5000,572,0,417,155,3394,34,189,0.12]
["1999-05-01",6950,5000,579,0,417,162,3549,35,197,0.12]
["1999-06-01",7001,5000,583,0,417,166,3711,37,203,0.12]
["1999-07-01",7115,5000,593,0,417,176,3877,39,215,0.12]
["1999-08-01",7076,5000,589,0,417,172,4053,41,213,0.12]
["1999-09-01",7120,5000,593,0,417,176,4225,42,218,0.12]
["1999-10-01",7131,5000,594,0,417,177,4401,44,221,0.12]
["1999-11-01",7136,5000,594,0,417,177,4578,46,223,0.12]
["1999-12-01",7153,5000,596,0,417,179,4755,48,227,0.12]
["2000-01-01",7081,5000,590,0,417,173,4934,49,222,0.12]
["2000-02-01",7076,5000,589,0,417,172,5107,51,223,0.12]
["2000-03-01",7367,5000,614,0,417,197,{"$f":"H55+G55+SUM(I44:I55)","v":5777},{"$f":"ROUND(H56*K56/12,0)","v":58},255,0.12]
["2000-04-01",7450,5000,621,0,417,204,5974,60,264,0.12]
["2000-05-01",7583,5000,632,0,417,215,6178,62,277,0.12]
["2000-06-01",7800,5000,650,0,417,233,6393,59,292,0.11]
["2000-07-01",7967,5000,664,0,417,247,6626,61,308,0.11]
["2000-08-01",8000,5000,666,0,417,249,6873,63,312,0.11]
["2000-09-01",7975,5000,664,0,417,247,7122,65,312,0.11]
["2000-10-01",7783,5000,648,0,417,231,7369,68,299,0.11]
["2000-11-01",7900,5000,658,0,417,241,7600,70,311,0.11]
["2000-12-01",8017,5000,668,0,417,251,7841,72,323,0.11]
["2001-01-01",8067,5000,672,0,417,255,8092,74,329,0.11]
["2001-02-01",7983,5000,665,0,417,248,8347,77,325,0.11]
["2001-03-01",8083,5000,{"$f":"ROUND(B68*8.33%,0)","v":673},0,417,{"$f":"D68+E68-F68","v":256},{"$f":"H67+G67+SUM(I56:I67)","v":9384},74,330,9.5000000000000001E-2]
["2001-04-01",8008,5000,667,0,417,250,9640,{"$f":"ROUND(H69*K69/12,0)","v":76},{"$f":"G69+I69","v":326},9.5000000000000001E-2]
["2001-05-01",7808,5000,650,0,417,233,{"$f":"H69+G69","v":9890},78,311,9.5000000000000001E-2]
["2001-06-01",8283,6500,690,0,541,149,10123,80,229,9.5000000000000001E-2]
["2001-07-01",8275,6500,689,0,541,148,10272,81,229,9.5000000000000001E-2]
["2001-08-01",8375,6500,698,0,541,157,10420,82,239,9.5000000000000001E-2]
["2001-09-01",8242,6500,687,0,541,146,10577,84,230,9.5000000000000001E-2]
["2001-10-01",8517,6500,709,0,541,168,10723,85,253,9.5000000000000001E-2]
["2001-11-01",8500,6500,708,0,541,167,10891,86,253,9.5000000000000001E-2]
["2001-12-01",7983,6500,665,0,541,124,11058,88,212,9.5000000000000001E-2]
["2002-01-01",8608,6500,717,0,541,176,11182,89,265,9.5000000000000001E-2]
["2002-02-01",8550,6500,712,0,541,171,11358,90,261,9.5000000000000001E-2]
["2002-03-01",8675,6500,723,0,541,182,{"$f":"H79+G79+SUM(I68:I79)","v":12522},99,281,9.5000000000000001E-2]
["2002-04-01",8817,6500,734,0,541,193,12704,101,294,9.5000000000000001E-2]
["2002-05-01",8992,6500,749,0,541,208,12897,102,310,9.5000000000000001E-2]
["2002-06-01",9017,6500,751,0,541,210,13105,104,314,9.5000000000000001E-2]
["2002-07-01",9033,6500,752,0,541,211,13315,105,316,9.5000000000000001E-2]
["2002-08-01",9125,6500,760,0,541,219,13526,107,326,9.5000000000000001E-2]
["2002-09-01",9133,6500,761,0,541,220,13745,109,329,9.5000000000000001E-2]
["2002-10-01",8858,6500,738,0,541,197,13965,111,308,9.5000000000000001E-2]
["2002-11-01",9200,6500,766,0,541,225,14162,112,337,9.5000000000000001E-2]
["2002-12-01",9200,6500,766,0,541,225,14387,114,339,9.5000000000000001E-2]
["2003-01-01",9242,6500,770,0,541,229,14612,116,345,9.5000000000000001E-2]
["2003-02-01",9317,6500,776,0,541,235,14841,117,352,9.5000000000000001E-2]
["2003-03-01",9408,6500,784,0,541,243,{"$f":"H91+G91+SUM(I80:I91)","v":16373},130,373,9.5000000000000001E-2]
["2003-04-01",9408,6500,784,0,541,243,16616,132,375,9.5000000000000001E-2]
["2003-05-01",9633,6500,802,0,541,261,16859,133,394,9.5000000000000001E-2]
["2003-06-01",9767,6500,814,0,541,273,17120,136,409,9.5000000000000001E-2]
["2003-07-01",9783,6500,815,0,541,274,17393,138,412,9.5000000000000001E-2]
["2003-08-01",9467,6500,789,0,541,248,17667,140,388,9.5000000000000001E-2]
["2003-09-01",9850,6500,821,0,541,280,17915,142,422,9.5000000000000001E-2]
["2003-10-01",9733,6500,811,0,541,270,18195,144,414,9.5000000000000001E-2]
["2003-11-01",9733,6500,811,0,541,270,18465,146,416,9.5000000000000001E-2]
["2003-12-01",9767,6500,814,0,541,273,18735,148,421,9.5000000000000001E-2]
["2004-01-01",9800,6500,816,0,541,275,19008,150,425,9.5000000000000001E-2]
["2004-02-01",9850,6500,821,0,541,280,19283,153,433,9.5000000000000001E-2]
["2004-03-01",9850,6500,821,0,541,280,{"$f":"H103+G103+SUM(I92:I103)","v":21255},168,448,9.5000000000000001E-2]
["2004-04-01",9933,6500,827,0,541,286,21535,170,456,9.5000000000000001E-2]
["2004-05-01",10133,6500,844,0,541,303,21821,173,476,9.5000000000000001E-2]
["2004-06-01",10158,6500,846,0,541,305,22124,175,480,9.5000000000000001E-2]
["2004-07-01",10183,6500,848,0,541,307,22429,178,485,9.5000000000000001E-2]
["2004-08-01",10225,6500,852,0,541,311,22736,180,491,9.5000000000000001E-2]
["2004-09-01",10325,6500,860,0,541,319,23047,182,501,9.5000000000000001E-2]
["2004-10-01",10367,6500,864,0,541,323,23366,185,508,9.5000000000000001E-2]
["2004-11-01",10400,6500,866,0,541,325,23689,188,513,9.5000000000000001E-2]
["2004-12-01",10442,6500,870,0,541,329,24014,190,519,9.5000000000000001E-2]
["2005-01-01",10425,6500,868,0,541,327,24343,193,520,9.5000000000000001E-2]
["2005-02-01",10375,6500,864,0,541,323,24670,195,518,9.5000000000000001E-2]
["2005-03-01",10508,6500,875,0,541,334,{"$f":"H115+G115+SUM(I104:I115)","v":27170},192,526,8.5000000000000006E-2]
["2005-04-01",9942,6500,828,0,541,287,27504,195,482,8.5000000000000006E-2]
["2005-05-01",10617,6500,884,0,541,343,27791,197,540,8.5000000000000006E-2]
["2005-06-01",10658,6500,888,0,541,347,28134,199,546,8.5000000000000006E-2]
["2005-07-01",9958,6500,830,0,541,289,28481,202,491,8.5000000000000006E-2]
["2005-08-01",10075,6500,839,0,541,298,28770,204,502,8.5000000000000006E-2]
["2005-09-01",10317,6500,859,0,541,318,29068,206,524,8.5000000000000006E-2]
["2005-10-01",10433,6500,869,0,541,328,29386,{"$f":"ROUND(H123*K123/12,0)","v":208},536,8.5000000000000006E-2]
["2005-11-01",10400,6500,866,0,541,325,29714,210,535,8.5000000000000006E-2]
["2005-12-01",10533,6500,877,0,541,336,30039,213,549,8.5000000000000006E-2]
["2006-01-01",10617,6500,884,0,541,343,30375,215,558,8.5000000000000006E-2]
["2006-02-01",10658,6500,888,0,541,347,30718,218,565,8.5000000000000006E-2]
["2006-03-01",10567,6500,880,0,541,339,{"$f":"H127+G127+SUM(I116:I127)","v":33524},237,576,8.5000000000000006E-2]
["2006-04-01",10817,6500,901,0,541,360,33863,240,600,8.5000000000000006E-2]
["2006-05-01",10792,6500,899,0,541,358,34223,242,600,8.5000000000000006E-2]
["2006-06-01",12233,6500,1019,0,541,478,34581,245,723,8.5000000000000006E-2]
["2006-07-01",13025,6500,{"$f":"ROUND(B132*8.33%,0)","v":1085},0,541,{"$f":"D132+E132-F132","v":544},35059,248,792,8.5000000000000006E-2]
["2006-08-01",13908,6500,1159,0,541,618,35603,{"$f":"ROUND(H133*K133/12,0)","v":252},{"$f":"G133+I133","v":870},8.5000000000000006E-2]
["2006-09-01",13267,6500,1105,0,541,564,{"$f":"H133+G133","v":36221},257,821,8.5000000000000006E-2]
["2006-10-01",13367,6500,1113,0,541,572,36785,261,833,8.5000000000000006E-2]
["2006-11-01",13408,6500,1117,0,541,576,37357,265,841,8.5000000000000006E-2]
["2006-12-01",13583,6500,1131,0,541,590,37933,269,859,8.5000000000000006E-2]
["2007-01-01",13500,6500,1125,0,541,584,38523,273,857,8.5000000000000006E-2]
["2007-02-01",13483,6500,1123,0,541,582,39107,277,859,8.5000000000000006E-2]
["2007-03-01",13583,6500,1131,0,541,590,{"$f":"H139+G139+SUM(I128:I139)","v":42755},303,893,8.5000000000000006E-2]
["2007-04-01",13583,6500,1131,0,541,590,43345,307,897,8.5000000000000006E-2]
["2007-05-01",13600,6500,1133,0,541,592,43935,311,903,8.5000000000000006E-2]
["2007-06-01",9267,6500,772,0,541,231,44527,315,546,8.5000000000000006E-2]
["2007-07-01",12075,6500,1006,0,541,465,44758,317,782,8.5000000000000006E-2]
["2007-08-01",12208,6500,1017,0,541,476,45223,320,796,8.5000000000000006E-2]
["2007-09-01",12283,6500,1023,0,541,482,45699,324,806,8.5000000000000006E-2]
["2007-10-01",12258,6500,1021,0,541,480,46181,327,807,8.5000000000000006E-2]
["2007-11-01",12333,6500,1027,0,541,486,46661,331,817,8.5000000000000006E-2]
["2007-12-01",12475,6500,1039,0,541,498,47147,334,832,8.5000000000000006E-2]
["2008-01-01",12408,6500,1034,0,541,493,47645,337,830,8.5000000000000006E-2]
["2008-02-01",13858,6500,1154,0,541,613,48138,341,954,8.5000000000000006E-2]
["2008-03-01",12942,6500,1078,0,541,537,{"$f":"H151+G151+SUM(I140:I151)","v":52618},373,910,8.5000000000000006E-2]
["2008-04-01",12475,6500,1039,0,541,498,53155,377,875,8.5000000000000006E-2]
["2008-05-01",12600,6500,1050,0,541,509,53653,380,889,8.5000000000000006E-2]
["2008-06-01",12592,6500,1049,0,541,508,54162,384,892,8.5000000000000006E-2]
["2008-07-01",12742,6500,1061,0,541,520,54670,387,907,8.5000000000000006E-2]
["2008-08-01",12800,6500,1066,0,541,525,55190,391,916,8.5000000000000006E-2]
["2008-09-01",12925,6500,1077,0,541,536,55715,395,931,8.5000000000000006E-2]
["2008-10-01",12992,6500,1082,0,541,541,56251,398,939,8.5000000000000006E-2]
["2008-11-01",13058,6500,1088,0,541,547,56792,402,949,8.5000000000000006E-2]
["2008-12-01",13383,6500,1115,0,541,574,57339,406,980,8.5000000000000006E-2]
["2009-01-01",13325,6500,1110,0,541,569,57913,410,979,8.5000000000000006E-2]
["2009-02-01",14600,6500,1216,0,541,675,58482,414,1089,8.5000000000000006E-2]
["2009-03-01",13458,6500,1121,0,541,580,{"$f":"H163+G163+SUM(I152:I163)","v":63874},452,1032,8.5000000000000006E-2]
["2009-04-01",13383,6500,1115,0,541,574,64454,457,1031,8.5000000000000006E-2]
["2009-05-01",13350,6500,1112,0,541,571,65028,461,1032,8.5000000000000006E-2]
["2009-06-01",13500,6500,1125,0,541,584,65599,465,1049,8.5000000000000006E-2]
["2009-07-01",13433,6500,1119,0,541,578,66183,469,1047,8.5000000000000006E-2]
["2009-08-01",13483,6500,1123,0,541,582,66761,473,1055,8.5000000000000006E-2]
["2009-09-01",13808,6500,1150,0,541,609,67343,477,1086,8.5000000000000006E-2]
["2009-10-01",13983,6500,1165,0,541,624,67952,481,1105,8.5000000000000006E-2]
["2009-11-01",13933,6500,1161,0,541,620,68576,486,1106,8.5000000000000006E-2]
["2009-12-01",14183,6500,1181,0,541,640,69196,490,1130,8.5000000000000006E-2]
["2010-01-01",12242,6500,1020,0,541,479,69836,495,974,8.5000000000000006E-2]
["2010-02-01",14642,6500,1220,0,541,679,70315,498,1177,8.5000000000000006E-2]
["2010-03-01",14625,6500,1218,0,541,677,{"$f":"H175+G175+SUM(I164:I175)","v":76698},607,1284,9.5000000000000001E-2]
["2010-04-01",14442,6500,1203,0,541,662,77375,613,1275,9.5000000000000001E-2]
["2010-05-01",14317,6500,1193,0,541,652,78037,618,1270,9.5000000000000001E-2]
["2010-06-01",14375,6500,1197,0,541,656,78689,623,1279,9.5000000000000001E-2]
["2010-07-01",14267,6500,1188,0,541,647,79345,628,1275,9.5000000000000001E-2]
["2010-08-01",14617,6500,1218,0,541,677,79992,633,1310,9.5000000000000001E-2]
["2010-09-01",14775,6500,1231,0,541,690,80669,639,1329,9.5000000000000001E-2]
["2010-10-01",14908,6500,1242,0,541,701,81359,644,1345,9.5000000000000001E-2]
["2010-11-01",15100,6500,1258,0,541,717,82060,650,1367,9.5000000000000001E-2]
["2010-12-01",15308,6500,1275,0,541,734,82777,655,1389,9.5000000000000001E-2]
["2011-01-01",15367,6500,1280,0,541,739,83511,661,1400,9.5000000000000001E-2]
["2011-02-01",15492,6500,1290,0,541,749,84250,667,1416,9.5000000000000001E-2]
["2011-03-01",15508,6500,1292,0,541,751,{"$f":"H187+G187+SUM(I176:I187)","v":92637},637,1388,8.2500000000000004E-2]
["2011-04-01",15433,6500,1286,0,541,745,93388,642,1387,8.2500000000000004E-2]
["2011-05-01",15433,6500,1286,0,541,745,94133,647,1392,8.2500000000000004E-2]
["2011-06-01",15400,6500,1283,0,541,742,94878,652,1394,8.2500000000000004E-2]
["2011-07-01",15625,6500,1302,0,541,761,95620,657,1418,8.2500000000000004E-2]
["2011-08-01",15808,6500,1317,0,541,776,96381,663,1439,8.2500000000000004E-2]
["2011-09-01",15900,6500,1324,0,541,783,97157,668,1451,8.2500000000000004E-2]
["2011-10-01",16100,6500,1341,0,541,800,97940,673,1473,8.2500000000000004E-2]
["2011-11-01",16483,6500,{"$f":"ROUND(B196*8.33%,0)","v":1373},0,541,{"$f":"D196+E196-F196","v":832},98740,679,1511,8.2500000000000004E-2]
["2011-12-01",16608,6500,1383,0,541,842,99572,{"$f":"ROUND(H197*K197/12,0)","v":685},{"$f":"G197+I197","v":1527},8.2500000000000004E-2]
["2012-01-01",16233,6500,1352,0,541,811,{"$f":"H197+G197","v":100414},690,1501,8.2500000000000004E-2]
["2012-02-01",16483,6500,1373,0,541,832,101225,696,1528,8.2500000000000004E-2]
["2012-03-01",16375,6500,1364,0,541,823,{"$f":"H199+G199+SUM(I188:I199)","v":110046},779,1602,8.5000000000000006E-2]
["2012-04-01",23583,6500,1964,0,541,1423,110869,785,2208,8.5000000000000006E-2]
["2012-05-01",24475,6500,2039,0,541,1498,112292,795,2293,8.5000000000000006E-2]
["2012-06-01",24892,6500,2074,0,541,1533,113790,806,2339,8.5000000000000006E-2]
["2012-07-01",24933,6500,2077,0,541,1536,115323,817,2353,8.5000000000000006E-2]
["2012-08-01",25250,6500,2103,0,541,1562,116859,828,2390,8.5000000000000006E-2]
["2012-09-01",25675,6500,2139,0,541,1598,118421,839,2437,8.5000000000000006E-2]
["2012-10-01",25908,6500,2158,0,541,1617,120019,850,2467,8.5000000000000006E-2]
["2012-11-01",26258,6500,2187,0,541,1646,121636,862,2508,8.5000000000000006E-2]
["2012-12-01",26508,6500,2208,0,541,1667,123282,873,2540,8.5000000000000006E-2]
["2013-01-01",26625,6500,2218,0,541,1677,124949,885,2562,8.5000000000000006E-2]
["2013-02-01",26750,6500,2228,0,541,1687,126626,897,2584,8.5000000000000006E-2]
["2013-03-01",26858,6500,2237,0,541,1696,{"$f":"H211+G211+SUM(I200:I211)","v":138329},1009,2705,8.7499999999999994E-2]
["2013-04-01",27117,6500,2259,0,541,1718,140025,1021,2739,8.7499999999999994E-2]
["2013-05-01",27808,6500,2316,0,541,1775,141743,1034,2809,8.7499999999999994E-2]
["2013-06-01",27925,6500,2326,0,541,1785,143518,1046,2831,8.7499999999999994E-2]
["2013-07-01",28183,6500,2348,0,541,1807,145303,1060,2867,8.7499999999999994E-2]
["2013-08-01",34625,6500,2884,0,541,2343,147110,1073,3416,8.7499999999999994E-2]
["2013-09-01",34983,6500,2914,0,541,2373,149453,1090,3463,8.7499999999999994E-2]
["2013-10-01",35358,6500,2945,0,541,2404,151826,1107,3511,8.7499999999999994E-2]
["2013-11-01",35358,6500,2945,0,541,2404,154230,1125,3529,8.7499999999999994E-2]
["2013-12-01",35758,6500,2979,0,541,2438,156634,1142,3580,8.7499999999999994E-2]
["2014-01-01",35975,6500,2997,0,541,2456,159072,1160,3616,8.7499999999999994E-2]
["2014-02-01",35175,6500,2930,0,541,2389,161528,1178,3567,8.7499999999999994E-2]
["2014-03-01",35208,6500,2933,0,541,2392,{"$f":"H223+G223+SUM(I212:I223)","v":176962},1290,3682,8.7499999999999994E-2]
["2014-04-01",35425,6500,2951,0,541,2410,179354,1308,3718,8.7499999999999994E-2]
["2014-05-01",36208,6500,3016,0,541,2475,181764,1325,3800,8.7499999999999994E-2]
["2014-06-01",36525,6500,3043,0,541,2502,184239,1343,3845,8.7499999999999994E-2]
["2014-07-01",70575,6500,5879,0,541,5338,{"$f":"H227+G227","v":186741},{"$f":"ROUND(H228*K228/12,0)","v":1362},6700,8.7499999999999994E-2]
["2014-08-01",37450,6500,3120,0,541,2579,192079,1401,3980,8.7499999999999994E-2]
["2014-09-01",38075,15000,3172,{"$f":"ROUND((B230-C230)*1.16%,0)","v":268},1250,2190,194658,1419,3609,8.7499999999999994E-2]
["2014-10-01",38100,15000,3174,{"$f":"ROUND((B231-C231)*1.16%,0)","v":268},1250,2192,196848,1435,3627,8.7499999999999994E-2]
["2014-11-01",38125,15000,3176,268,1250,2194,199040,1451,3645,8.7499999999999994E-2]
["2014-12-01",38075,15000,3172,268,1250,2190,201234,1467,3657,8.7499999999999994E-2]
["2015-01-01",38067,15000,3171,268,1250,2189,203424,1483,3672,8.7499999999999994E-2]
["2015-02-01",38700,15000,3224,275,1250,2249,205613,{"$f":"ROUND(H235*K235/12,0)","v":1499},3748,8.7499999999999994E-2]
["2015-03-01",39017,15000,3250,279,1250,2279,{"$f":"H235+G235+SUM(I224:I235)","v":224645},{"$f":"ROUND(H236*K236/12,0)","v":1647},3926,8.7999999999999995E-2]
["2015-04-01",38800,15000,3232,276,1250,2258,226924,1664,3922,8.7999999999999995E-2]
["2015-05-01",39325,15000,3276,282,1250,2308,229182,1681,3989,8.7999999999999995E-2]
["2015-06-01",39850,15000,3320,288,1250,2358,231490,1698,4056,8.7999999999999995E-2]
["2015-07-01",40008,15000,3333,290,1250,2373,233848,1715,4088,8.7999999999999995E-2]
["2015-08-01",40242,15000,3352,293,1250,2395,236221,1732,4127,8.7999999999999995E-2]
["2015-09-01",40365,15000,3362,294,1250,2406,238616,1750,4156,8.7999999999999995E-2]
["2015-10-01",40603,15000,3382,297,1250,2429,241022,1767,4196,8.7999999999999995E-2]
["2015-11-01",40841,15000,3402,300,1250,2452,243451,1785,4237,8.7999999999999995E-2]
["2015-12-01",41079,15000,3422,303,1250,2475,245903,1803,4278,8.7999999999999995E-2]
["2016-01-01",41317,15000,3442,305,1250,2497,248378,1821,4318,8.7999999999999995E-2]
["2016-02-01",41555,15000,3462,308,1250,2520,250875,1840,4360,8.7999999999999995E-2]
["2016-03-01",41794,15000,3481,311,1250,2542,{"$f":"H247+G247+SUM(I236:I247)","v":274298},1977,4519,8.6499999999999994E-2]
["2016-04-01",42032,15000,3501,314,1250,2565,276840,1996,4561,8.6499999999999994E-2]
["2016-05-01",42270,15000,3521,316,1250,2587,279405,2014,4601,8.6499999999999994E-2]
["2016-06-01",42508,15000,3541,319,1250,2610,281992,2033,4643,8.6499999999999994E-2]
["2016-07-01",42746,15000,3561,322,1250,2633,284602,2052,4685,8.6499999999999994E-2]
["2016-08-01",42984,15000,3581,325,1250,2656,287235,2070,4726,8.6499999999999994E-2]
["2016-09-01",43222,15000,3600,327,1250,2677,289891,2090,4767,8.6499999999999994E-2]
["2016-10-01",43460,15000,3620,330,1250,2700,292568,2109,4809,8.6499999999999994E-2]
["2016-11-01",43698,15000,3640,333,1250,2723,295268,2128,4851,8.6499999999999994E-2]
["2016-12-01",43936,15000,3660,336,1250,2746,297991,2148,4894,8.6499999999999994E-2]
["2017-01-01",44174,15000,3680,338,1250,2768,300737,2168,4936,8.6499999999999994E-2]
["2017-02-01",44412,15000,3700,341,1250,2791,303505,2188,4979,8.6499999999999994E-2]
["2017-03-01",44650,15000,{"$f":"ROUND(B260*8.33%,0)","v":3719},344,1250,{"$f":"D260+E260-F260","v":2813},{"$f":"H259+G259+SUM(I248:I259)","v":331269},2360,5173,8.5500000000000007E-2]
["2017-04-01",44888,15000,3739,347,1250,2836,334082,{"$f":"ROUND(H261*K261/12,0)","v":2380},{"$f":"G261+I261","v":5216},8.5500000000000007E-2]
["2017-05-01",45126,15000,3759,349,1250,2858,{"$f":"H261+G261","v":336918},2401,5259,8.5500000000000007E-2]
["2017-06-01",45364,15000,3779,352,1250,2881,339776,2421,5302,8.5500000000000007E-2]
["2017-07-01",45602,15000,3799,355,1250,2904,342657,2441,5345,8.5500000000000007E-2]
["2017-08-01",45840,15000,3818,358,1250,2926,345561,2462,5388,8.5500000000000007E-2]
["2017-09-01",46078,15000,3838,361,1250,2949,348487,2483,5432,8.5500000000000007E-2]
["2017-10-01",46316,15000,3858,363,1250,2971,351436,2504,5475,8.5500000000000007E-2]
["2017-11-01",46554,15000,3878,366,1250,2994,354407,2525,5519,8.5500000000000007E-2]
["2017-12-01",46792,15000,3898,369,1250,3017,357401,2546,5563,8.5500000000000007E-2]
["2018-01-01",47030,15000,3918,372,1250,3040,360418,2568,5608,8.5500000000000007E-2]
["2018-02-01",47268,15000,3937,374,1250,3061,363458,2590,5651,8.5500000000000007E-2]
["2018-03-01",47506,15000,3957,377,1250,3084,{"$f":"H271+G271+SUM(I260:I271)","v":396200},2856,5940,8.6499999999999994E-2]
["2018-04-01",47744,15000,3977,380,1250,3107,399284,2878,5985,8.6499999999999994E-2]
["2018-05-01",47982,15000,3997,383,1250,3130,402391,2901,6031,8.6499999999999994E-2]
["2018-06-01",48220,15000,4017,385,1250,3152,405521,2923,6075,8.6499999999999994E-2]
["2018-07-01",48458,15000,4037,388,1250,3175,408673,2946,6121,8.6499999999999994E-2]
["2018-08-01",48696,15000,4056,391,1250,3197,411848,2969,6166,8.6499999999999994E-2]
["2018-09-01",48934,15000,4076,394,1250,3220,415045,2992,6212,8.6499999999999994E-2]
["2018-10-01",49172,15000,4096,396,1250,3242,418265,3015,6257,8.6499999999999994E-2]
["2018-11-01",49410,15000,4116,399,1250,3265,421507,3038,6303,8.6499999999999994E-2]
["2018-12-01",49648,15000,4136,402,1250,3288,424772,3062,6350,8.6499999999999994E-2]
["2019-01-01",49886,15000,4156,405,1250,3311,428060,3086,6397,8.6499999999999994E-2]
["2019-02-01",50124,15000,4175,407,1250,3332,431371,3109,6441,8.6499999999999994E-2]
["2019-03-01",50362,15000,4195,410,1250,3355,{"$f":"H283+G283+SUM(I272:I283)","v":470478},3333,6688,8.5000000000000006E-2]
["2019-04-01",50601,15000,4215,413,1250,3378,473833,3356,6734,8.5000000000000006E-2]
["2019-05-01",50839,15000,4235,416,1250,3401,477211,3380,6781,8.5000000000000006E-2]
["2019-06-01",51077,15000,4255,418,1250,3423,480612,3404,6827,8.5000000000000006E-2]
["2019-07-01",51315,15000,4275,421,1250,3446,484035,3429,6875,8.5000000000000006E-2]
["2019-08-01",51553,15000,4294,424,1250,3468,487481,3453,6921,8.5000000000000006E-2]
["2019-09-01",51791,15000,4314,427,1250,3491,490949,3478,6969,8.5000000000000006E-2]
["2019-10-01",52029,15000,4334,430,1250,3514,494440,3502,7016,8.5000000000000006E-2]
["2019-11-01",52267,15000,4354,432,1250,3536,497954,3527,7063,8.5000000000000006E-2]
["2019-12-01",52505,15000,4374,435,1250,3559,501490,3552,7111,8.5000000000000006E-2]
["2020-01-01",52743,15000,4393,438,1250,3581,505049,3577,7158,8.5000000000000006E-2]
["2020-02-01",52981,15000,4413,{"$f":"ROUND((B295-C295)*1.16%,0)","v":441},1250,3604,508630,3603,7207,8.5000000000000006E-2]
["2020-03-01",53219,15000,4433,443,1250,3626,{"$f":"H295+G295+SUM(I284:I295)","v":553828},3923,7549,8.5000000000000006E-2]
["2020-04-01",53457,15000,4453,446,1250,3649,557454,3949,7598,8.5000000000000006E-2]
["2020-05-01",53695,15000,4473,449,1250,3672,561103,3974,7646,8.5000000000000006E-2]
["2020-06-01",53933,15000,4493,452,1250,3695,564775,4000,7695,8.5000000000000006E-2]
["2020-07-01",54171,15000,4512,454,1250,3716,568470,4027,7743,8.5000000000000006E-2]
["2020-08-01",54409,15000,4532,457,1250,3739,572186,4053,7792,8.5000000000000006E-2]
["2020-09-01",54647,15000,4552,460,1250,3762,575925,4079,7841,8.5000000000000006E-2]
["2020-10-01",54885,15000,4572,463,1250,3785,579687,4106,7891,8.5000000000000006E-2]
["2020-11-01",55123,15000,4592,465,1250,3807,583472,4133,7940,8.5000000000000006E-2]
["2020-12-01",55361,15000,4612,468,1250,3830,587279,4160,7990,8.5000000000000006E-2]
["2021-01-01",55599,15000,4631,471,1250,3852,591109,4187,8039,8.5000000000000006E-2]
["2021-02-01",55837,15000,4651,474,1250,3875,594961,4214,8089,8.5000000000000006E-2]
["2021-03-01",56075,15000,4671,476,1250,3897,{"$f":"H307+G307+SUM(I296:I307)","v":647641},4372,8269,8.1000000000000003E-2]
["2021-04-01",56313,15000,4691,479,1250,3920,651538,4398,8318,8.1000000000000003E-2]
["2021-05-01",56551,15000,4711,482,1250,3943,655458,4424,8367,8.1000000000000003E-2]
["2021-06-01",56789,15000,4731,485,1250,3966,659401,4451,8417,8.1000000000000003E-2]
["2021-07-01",57027,15000,4750,488,1250,3988,663367,4478,8466,8.1000000000000003E-2]
["2021-08-01",57265,15000,4770,490,1250,4010,667355,4505,8515,8.1000000000000003E-2]
["2021-09-01",57503,15000,4790,493,1250,4033,671365,4532,8565,8.1000000000000003E-2]
["2021-10-01",57741,15000,4810,496,1250,4056,675398,4559,8615,8.1000000000000003E-2]
["2021-11-01",57979,15000,4830,499,1250,4079,679454,4586,8665,8.1000000000000003E-2]
["2021-12-01",58217,15000,4849,501,1250,4100,683533,4614,8714,8.1000000000000003E-2]
["2022-01-01",58455,15000,4869,504,1250,4123,687633,4642,8765,8.1000000000000003E-2]
["2022-02-01",58693,15000,4889,507,1250,4146,691756,4669,8815,8.1000000000000003E-2]
["2022-03-01",58931,15000,4909,510,1250,4169,{"$f":"H319+G319+SUM(I308:I319)","v":750132},5063,9232,8.1000000000000003E-2]
["2022-04-01",59170,15000,4929,512,1250,4191,754301,5092,9283,8.1000000000000003E-2]
["2022-05-01",59408,15000,4949,515,1250,4214,758492,5120,9334,8.1000000000000003E-2]
["2022-06-01",59646,15000,4969,518,1250,4237,762706,5148,9385,8.1000000000000003E-2]
["2022-07-01",59884,15000,{"$f":"ROUND(B324*8.33%,0)","v":4988},521,1250,{"$f":"D324+E324-F324","v":4259},766943,5177,9436,8.1000000000000003E-2]
["2022-08-01",60122,15000,5008,523,1250,4281,771202,{"$f":"ROUND(H325*K325/12,0)","v":5206},{"$f":"G325+I325","v":9487},8.1000000000000003E-2]
["2022-09-01",60360,15000,5028,526,1250,4304,{"$f":"H325+G325","v":775483},5235,9539,8.1000000000000003E-2]
["2022-10-01",60598,15000,5048,529,1250,4327,779787,5264,9591,8.1000000000000003E-2]
["2022-11-01",60836,15000,5068,532,1250,4350,784114,5293,9643,8.1000000000000003E-2]
["2022-12-01",61074,15000,5087,534,1250,4371,788464,5322,9693,8.1000000000000003E-2]
["2023-01-01",61312,15000,5107,537,1250,4394,792835,5352,9746,8.1000000000000003E-2]
["2023-02-01",61550,15000,5127,540,1250,{"$f":"D331+E331-F331","v":4417},797229,5381,9798,8.1000000000000003E-2]
["2023-03-01",0,0,0,0,0,0,0,0,{"$f":"G332+I332","v":0},8.1000000000000003E-2]
["2023-04-01",0,0,0,0,0,0,{"$f":"H332+G332","v":0},{"$f":"ROUND(H333*K333/12,0)","v":0},{"$f":"G333+I333","v":0},8.1000000000000003E-2]

{"sheet":"Upload","index":1,"n_rows":331,"n_cols":9,"rows_kept":331,"cut":false,"hidden":false,"merged":[]}
["Member ID","Wage Month","Wages on which PF contribution\nwas paid","Pension Contribution from\nemployer @ 8.33% due on such\nWages as in column 3","Pension Contribution from\nemployee @ 1.16% of the difference of wages and 15000, for the wage months on or after Sept 2014","Pension Contribution Paid by the\nemployer earlier","Pension Contribution to be paid\nalong with interest","Yearly PF Interest rate for PFexempt\nestablishments","Text"]
["PUPUN33333330000000414","11/1995",{"$f":"Calculation!B4","v":2111},{"$f":"Calculation!D4","v":176},{"$f":"Calculation!E4","v":0},{"$f":"Calculation!F4","v":176},{"$f":"Calculation!J4","v":0},"12.00",{"$f":"CONCATENATE(A2,\"#~#\",B2,\"#~#\",C2,\"#~#\",D2,\"#~#\",E2,\"#~#\",F2,\"#~#\",G2,\"#~#\",H2)","v":"PUPUN33333330000000414#~#11/1995#~#2111#~#176#~#0#~#176#~#0#~#12.00"}]
["PUPUN33333330000000414","12/1995",{"$f":"Calculation!B5","v":4271},{"$f":"Calculation!D5","v":356},{"$f":"Calculation!E5","v":0},{"$f":"Calculation!F5","v":356},{"$f":"Calculation!J5","v":0},"12.00","PUPUN33333330000000414#~#12/1995#~#4271#~#356#~#0#~#356#~#0#~#12.00"]
["PUPUN33333330000000414","01/1996",{"$f":"Calculation!B6","v":4373},{"$f":"Calculation!D6","v":364},{"$f":"Calculation!E6","v":0},{"$f":"Calculation!F6","v":364},{"$f":"Calculation!J6","v":0},"12.00","PUPUN33333330000000414#~#01/1996#~#4373#~#364#~#0#~#364#~#0#~#12.00"]
["PUPUN33333330000000414","02/1996",{"$f":"Calculation!B7","v":4012},{"$f":"Calculation!D7","v":334},{"$f":"Calculation!E7","v":0},{"$f":"Calculation!F7","v":334},{"$f":"Calculation!J7","v":0},"12.00","PUPUN33333330000000414#~#02/1996#~#4012#~#334#~#0#~#334#~#0#~#12.00"]
["PUPUN33333330000000414","03/1996",{"$f":"Calculation!B8","v":4280},{"$f":"Calculation!D8","v":357},{"$f":"Calculation!E8","v":0},{"$f":"Calculation!F8","v":357},{"$f":"Calculation!J8","v":0},"12.00","PUPUN33333330000000414#~#03/1996#~#4280#~#357#~#0#~#357#~#0#~#12.00"]
["PUPUN33333330000000414","04/1996",{"$f":"Calculation!B9","v":4229},{"$f":"Calculation!D9","v":352},{"$f":"Calculation!E9","v":0},{"$f":"Calculation!F9","v":352},{"$f":"Calculation!J9","v":0},"12.00","PUPUN33333330000000414#~#04/1996#~#4229#~#352#~#0#~#352#~#0#~#12.00"]
["PUPUN33333330000000414","05/1996",{"$f":"Calculation!B10","v":4423},{"$f":"Calculation!D10","v":368},{"$f":"Calculation!E10","v":0},{"$f":"Calculation!F10","v":368},{"$f":"Calculation!J10","v":0},"12.00","PUPUN33333330000000414#~#05/1996#~#4423#~#368#~#0#~#368#~#0#~#12.00"]
["PUPUN33333330000000414","06/1996",{"$f":"Calculation!B11","v":4384},{"$f":"Calculation!D11","v":365},{"$f":"Calculation!E11","v":0},{"$f":"Calculation!F11","v":365},{"$f":"Calculation!J11","v":0},"12.00","PUPUN33333330000000414#~#06/1996#~#4384#~#365#~#0#~#365#~#0#~#12.00"]
["PUPUN33333330000000414","07/1996",{"$f":"Calculation!B12","v":4536},{"$f":"Calculation!D12","v":378},{"$f":"Calculation!E12","v":0},{"$f":"Calculation!F12","v":378},{"$f":"Calculation!J12","v":0},"12.00","PUPUN33333330000000414#~#07/1996#~#4536#~#378#~#0#~#378#~#0#~#12.00"]
["PUPUN33333330000000414","08/1996",{"$f":"Calculation!B13","v":4566},{"$f":"Calculation!D13","v":380},{"$f":"Calculation!E13","v":0},{"$f":"Calculation!F13","v":380},{"$f":"Calculation!J13","v":0},"12.00","PUPUN33333330000000414#~#08/1996#~#4566#~#380#~#0#~#380#~#0#~#12.00"]
["PUPUN33333330000000414","09/1996",{"$f":"Calculation!B14","v":4378},{"$f":"Calculation!D14","v":365},{"$f":"Calculation!E14","v":0},{"$f":"Calculation!F14","v":365},{"$f":"Calculation!J14","v":0},"12.00","PUPUN33333330000000414#~#09/1996#~#4378#~#365#~#0#~#365#~#0#~#12.00"]
["PUPUN33333330000000414","10/1996",{"$f":"Calculation!B15","v":4543},{"$f":"Calculation!D15","v":378},{"$f":"Calculation!E15","v":0},{"$f":"Calculation!F15","v":378},{"$f":"Calculation!J15","v":0},"12.00","PUPUN33333330000000414#~#10/1996#~#4543#~#378#~#0#~#378#~#0#~#12.00"]
["PUPUN33333330000000414","11/1996",{"$f":"Calculation!B16","v":4474},{"$f":"Calculation!D16","v":373},{"$f":"Calculation!E16","v":0},{"$f":"Calculation!F16","v":373},{"$f":"Calculation!J16","v":0},"12.00","PUPUN33333330000000414#~#11/1996#~#4474#~#373#~#0#~#373#~#0#~#12.00"]
["PUPUN33333330000000414","12/1996",{"$f":"Calculation!B17","v":4597},{"$f":"Calculation!D17","v":383},{"$f":"Calculation!E17","v":0},{"$f":"Calculation!F17","v":383},{"$f":"Calculation!J17","v":0},"12.00","PUPUN33333330000000414#~#12/1996#~#4597#~#383#~#0#~#383#~#0#~#12.00"]
["PUPUN33333330000000414","01/1997",{"$f":"Calculation!B18","v":4633},{"$f":"Calculation!D18","v":386},{"$f":"Calculation!E18","v":0},{"$f":"Calculation!F18","v":386},{"$f":"Calculation!J18","v":0},"12.00","PUPUN33333330000000414#~#01/1997#~#4633#~#386#~#0#~#386#~#0#~#12.00"]
["PUPUN33333330000000414","02/1997",{"$f":"Calculation!B19","v":4371},{"$f":"Calculation!D19","v":364},{"$f":"Calculation!E19","v":0},{"$f":"Calculation!F19","v":364},{"$f":"Calculation!J19","v":0},"12.00","PUPUN33333330000000414#~#02/1997#~#4371#~#364#~#0#~#364#~#0#~#12.00"]
["PUPUN33333330000000414","03/1997",{"$f":"Calculation!B20","v":4683},{"$f":"Calculation!D20","v":390},{"$f":"Calculation!E20","v":0},{"$f":"Calculation!F20","v":390},{"$f":"Calculation!J20","v":0},"12.00","PUPUN33333330000000414#~#03/1997#~#4683#~#390#~#0#~#390#~#0#~#12.00"]
["PUPUN33333330000000414","04/1997",{"$f":"Calculation!B21","v":4642},{"$f":"Calculation!D21","v":387},{"$f":"Calculation!E21","v":0},{"$f":"Calculation!F21","v":387},{"$f":"Calculation!J21","v":0},"12.00","PUPUN33333330000000414#~#04/1997#~#4642#~#387#~#0#~#387#~#0#~#12.00"]
["PUPUN33333330000000414","05/1997",{"$f":"Calculation!B22","v":4715},{"$f":"Calculation!D22","v":393},{"$f":"Calculation!E22","v":0},{"$f":"Calculation!F22","v":393},{"$f":"Calculation!J22","v":0},"12.00","PUPUN33333330000000414#~#05/1997#~#4715#~#393#~#0#~#393#~#0#~#12.00"]
["PUPUN33333330000000414","06/1997",{"$f":"Calculation!B23","v":14153},{"$f":"Calculation!D23","v":1179},{"$f":"Calculation!E23","v":0},{"$f":"Calculation!F23","v":417},{"$f":"Calculation!J23","v":762},"12.00","PUPUN33333330000000414#~#06/1997#~#14153#~#1179#~#0#~#417#~#762#~#12.00"]
["PUPUN33333330000000414","07/1997",{"$f":"Calculation!B24","v":5533},{"$f":"Calculation!D24","v":461},{"$f":"Calculation!E24","v":0},{"$f":"Calculation!F24","v":417},{"$f":"Calculation!J24","v":52},"12.00","PUPUN33333330000000414#~#07/1997#~#5533#~#461#~#0#~#417#~#52#~#12.00"]
["PUPUN33333330000000414","08/1997",{"$f":"Calculation!B25","v":5743},{"$f":"Calculation!D25","v":478},{"$f":"Calculation!E25","v":0},{"$f":"Calculation!F25","v":417},{"$f":"Calculation!J25","v":69},"12.00","PUPUN33333330000000414#~#08/1997#~#5743#~#478#~#0#~#417#~#69#~#12.00"]
["PUPUN33333330000000414","09/1997",{"$f":"Calculation!B26","v":5727},{"$f":"Calculation!D26","v":477},{"$f":"Calculation!E26","v":0},{"$f":"Calculation!F26","v":417},{"$f":"Calculation!J26","v":69},"12.00","PUPUN33333330000000414#~#09/1997#~#5727#~#477#~#0#~#417#~#69#~#12.00"]
["PUPUN33333330000000414","10/1997",{"$f":"Calculation!B27","v":5743},{"$f":"Calculation!D27","v":478},{"$f":"Calculation!E27","v":0},{"$f":"Calculation!F27","v":417},{"$f":"Calculation!J27","v":70},"12.00","PUPUN33333330000000414#~#10/1997#~#5743#~#478#~#0#~#417#~#70#~#12.00"]
["PUPUN33333330000000414","11/1997",{"$f":"Calculation!B28","v":5811},{"$f":"Calculation!D28","v":484},{"$f":"Calculation!E28","v":0},{"$f":"Calculation!F28","v":417},{"$f":"Calculation!J28","v":77},"12.00","PUPUN33333330000000414#~#11/1997#~#5811#~#484#~#0#~#417#~#77#~#12.00"]
["PUPUN33333330000000414","12/1997",{"$f":"Calculation!B29","v":5908},{"$f":"Calculation!D29","v":492},{"$f":"Calculation!E29","v":0},{"$f":"Calculation!F29","v":417},{"$f":"Calculation!J29","v":86},"12.00","PUPUN33333330000000414#~#12/1997#~#5908#~#492#~#0#~#417#~#86#~#12.00"]
["PUPUN33333330000000414","01/1998",{"$f":"Calculation!B30","v":5875},{"$f":"Calculation!D30","v":489},{"$f":"Calculation!E30","v":0},{"$f":"Calculation!F30","v":417},{"$f":"Calculation!J30","v":83},"12.00","PUPUN33333330000000414#~#01/1998#~#5875#~#489#~#0#~#417#~#83#~#12.00"]
["PUPUN33333330000000414","02/1998",{"$f":"Calculation!B31","v":6071},{"$f":"Calculation!D31","v":506},{"$f":"Calculation!E31","v":0},{"$f":"Calculation!F31","v":417},{"$f":"Calculation!J31","v":101},"12.00","PUPUN33333330000000414#~#02/1998#~#6071#~#506#~#0#~#417#~#101#~#12.00"]
["PUPUN33333330000000414","03/1998",{"$f":"Calculation!B32","v":6167},{"$f":"Calculation!D32","v":514},{"$f":"Calculation!E32","v":0},{"$f":"Calculation!F32","v":417},{"$f":"Calculation!J32","v":111},"12.00","PUPUN33333330000000414#~#03/1998#~#6167#~#514#~#0#~#417#~#111#~#12.00"]
["PUPUN33333330000000414","04/1998",{"$f":"Calculation!B33","v":6294},{"$f":"Calculation!D33","v":524},{"$f":"Calculation!E33","v":0},{"$f":"Calculation!F33","v":417},{"$f":"Calculation!J33","v":122},"12.00","PUPUN33333330000000414#~#04/1998#~#6294#~#524#~#0#~#417#~#122#~#12.00"]
["PUPUN33333330000000414","05/1998",{"$f":"Calculation!B34","v":6283},{"$f":"Calculation!D34","v":523},{"$f":"Calculation!E34","v":0},{"$f":"Calculation!F34","v":417},{"$f":"Calculation!J34","v":122},"12.00","PUPUN33333330000000414#~#05/1998#~#6283#~#523#~#0#~#417#~#122#~#12.00"]
["PUPUN33333330000000414","06/1998",{"$f":"Calculation!B35","v":6391},{"$f":"Calculation!D35","v":532},{"$f":"Calculation!E35","v":0},{"$f":"Calculation!F35","v":417},{"$f":"Calculation!J35","v":132},"12.00","PUPUN33333330000000414#~#06/1998#~#6391#~#532#~#0#~#417#~#132#~#12.00"]
["PUPUN33333330000000414","07/1998",{"$f":"Calculation!B36","v":6547},{"$f":"Calculation!D36","v":545},{"$f":"Calculation!E36","v":0},{"$f":"Calculation!F36","v":417},{"$f":"Calculation!J36","v":146},"12.00","PUPUN33333330000000414#~#07/1998#~#6547#~#545#~#0#~#417#~#146#~#12.00"]
["PUPUN33333330000000414","08/1998",{"$f":"Calculation!B37","v":6650},{"$f":"Calculation!D37","v":554},{"$f":"Calculation!E37","v":0},{"$f":"Calculation!F37","v":417},{"$f":"Calculation!J37","v":156},"12.00","PUPUN33333330000000414#~#08/1998#~#6650#~#554#~#0#~#417#~#156#~#12.00"]
["PUPUN33333330000000414","09/1998",{"$f":"Calculation!B38","v":6830},{"$f":"Calculation!D38","v":569},{"$f":"Calculation!E38","v":0},{"$f":"Calculation!F38","v":417},{"$f":"Calculation!J38","v":173},"12.00","PUPUN33333330000000414#~#09/1998#~#6830#~#569#~#0#~#417#~#173#~#12.00"]
["PUPUN33333330000000414","10/1998",{"$f":"Calculation!B39","v":6811},{"$f":"Calculation!D39","v":567},{"$f":"Calculation!E39","v":0},{"$f":"Calculation!F39","v":417},{"$f":"Calculation!J39","v":172},"12.00","PUPUN33333330000000414#~#10/1998#~#6811#~#567#~#0#~#417#~#172#~#12.00"]
["PUPUN33333330000000414","11/1998",{"$f":"Calculation!B40","v":6243},{"$f":"Calculation!D40","v":520},{"$f":"Calculation!E40","v":0},{"$f":"Calculation!F40","v":417},{"$f":"Calculation!J40","v":127},"12.00","PUPUN33333330000000414#~#11/1998#~#6243#~#520#~#0#~#417#~#127#~#12.00"]
["PUPUN33333330000000414","12/1998",{"$f":"Calculation!B41","v":7058},{"$f":"Calculation!D41","v":588},{"$f":"Calculation!E41","v":0},{"$f":"Calculation!F41","v":417},{"$f":"Calculation!J41","v":196},"12.00","PUPUN33333330000000414#~#12/1998#~#7058#~#588#~#0#~#417#~#196#~#12.00"]
["PUPUN33333330000000414","01/1999",{"$f":"Calculation!B42","v":6931},{"$f":"Calculation!D42","v":577},{"$f":"Calculation!E42","v":0},{"$f":"Calculation!F42","v":417},{"$f":"Calculation!J42","v":186},"12.00","PUPUN33333330000000414#~#01/1999#~#6931#~#577#~#0#~#417#~#186#~#12.00"]
["PUPUN33333330000000414","02/1999",{"$f":"Calculation!B43","v":7320},{"$f":"Calculation!D43","v":610},{"$f":"Calculation!E43","v":0},{"$f":"Calculation!F43","v":417},{"$f":"Calculation!J43","v":221},"12.00","PUPUN33333330000000414#~#02/1999#~#7320#~#610#~#0#~#417#~#221#~#12.00"]
["PUPUN33333330000000414","03/1999",{"$f":"Calculation!B44","v":6935},{"$f":"Calculation!D44","v":578},{"$f":"Calculation!E44","v":0},{"$f":"Calculation!F44","v":417},{"$f":"Calculation!J44","v":193},"12.00","PUPUN33333330000000414#~#03/1999#~#6935#~#578#~#0#~#417#~#193#~#12.00"]
["PUPUN33333330000000414","04/1999",{"$f":"Calculation!B45","v":6865},{"$f":"Calculation!D45","v":572},{"$f":"Calculation!E45","v":0},{"$f":"Calculation!F45","v":417},{"$f":"Calculation!J45","v":189},"12.00","PUPUN33333330000000414#~#04/1999#~#6865#~#572#~#0#~#417#~#189#~#12.00"]
["PUPUN33333330000000414","05/1999",{"$f":"Calculation!B46","v":6950},{"$f":"Calculation!D46","v":579},{"$f":"Calculation!E46","v":0},{"$f":"Calculation!F46","v":417},{"$f":"Calculation!J46","v":197},"12.00","PUPUN33333330000000414#~#05/1999#~#6950#~#579#~#0#~#417#~#197#~#12.00"]
["PUPUN33333330000000414","06/1999",{"$f":"Calculation!B47","v":7001},{"$f":"Calculation!D47","v":583},{"$f":"Calculation!E47","v":0},{"$f":"Calculation!F47","v":417},{"$f":"Calculation!J47","v":203},"12.00","PUPUN33333330000000414#~#06/1999#~#7001#~#583#~#0#~#417#~#203#~#12.00"]
["PUPUN33333330000000414","07/1999",{"$f":"Calculation!B48","v":7115},{"$f":"Calculation!D48","v":593},{"$f":"Calculation!E48","v":0},{"$f":"Calculation!F48","v":417},{"$f":"Calculation!J48","v":215},"12.00","PUPUN33333330000000414#~#07/1999#~#7115#~#593#~#0#~#417#~#215#~#12.00"]
["PUPUN33333330000000414","08/1999",{"$f":"Calculation!B49","v":7076},{"$f":"Calculation!D49","v":589},{"$f":"Calculation!E49","v":0},{"$f":"Calculation!F49","v":417},{"$f":"Calculation!J49","v":213},"12.00","PUPUN33333330000000414#~#08/1999#~#7076#~#589#~#0#~#417#~#213#~#12.00"]
["PUPUN33333330000000414","09/1999",{"$f":"Calculation!B50","v":7120},{"$f":"Calculation!D50","v":593},{"$f":"Calculation!E50","v":0},{"$f":"Calculation!F50","v":417},{"$f":"Calculation!J50","v":218},"12.00","PUPUN33333330000000414#~#09/1999#~#7120#~#593#~#0#~#417#~#218#~#12.00"]
["PUPUN33333330000000414","10/1999",{"$f":"Calculation!B51","v":7131},{"$f":"Calculation!D51","v":594},{"$f":"Calculation!E51","v":0},{"$f":"Calculation!F51","v":417},{"$f":"Calculation!J51","v":221},"12.00","PUPUN33333330000000414#~#10/1999#~#7131#~#594#~#0#~#417#~#221#~#12.00"]
["PUPUN33333330000000414","11/1999",{"$f":"Calculation!B52","v":7136},{"$f":"Calculation!D52","v":594},{"$f":"Calculation!E52","v":0},{"$f":"Calculation!F52","v":417},{"$f":"Calculation!J52","v":223},"12.00","PUPUN33333330000000414#~#11/1999#~#7136#~#594#~#0#~#417#~#223#~#12.00"]
["PUPUN33333330000000414","12/1999",{"$f":"Calculation!B53","v":7153},{"$f":"Calculation!D53","v":596},{"$f":"Calculation!E53","v":0},{"$f":"Calculation!F53","v":417},{"$f":"Calculation!J53","v":227},"12.00","PUPUN33333330000000414#~#12/1999#~#7153#~#596#~#0#~#417#~#227#~#12.00"]
["PUPUN33333330000000414","01/2000",{"$f":"Calculation!B54","v":7081},{"$f":"Calculation!D54","v":590},{"$f":"Calculation!E54","v":0},{"$f":"Calculation!F54","v":417},{"$f":"Calculation!J54","v":222},"12.00","PUPUN33333330000000414#~#01/2000#~#7081#~#590#~#0#~#417#~#222#~#12.00"]
["PUPUN33333330000000414","02/2000",{"$f":"Calculation!B55","v":7076},{"$f":"Calculation!D55","v":589},{"$f":"Calculation!E55","v":0},{"$f":"Calculation!F55","v":417},{"$f":"Calculation!J55","v":223},"12.00","PUPUN33333330000000414#~#02/2000#~#7076#~#589#~#0#~#417#~#223#~#12.00"]
["PUPUN33333330000000414","03/2000",{"$f":"Calculation!B56","v":7367},{"$f":"Calculation!D56","v":614},{"$f":"Calculation!E56","v":0},{"$f":"Calculation!F56","v":417},{"$f":"Calculation!J56","v":255},"11.00","PUPUN33333330000000414#~#03/2000#~#7367#~#614#~#0#~#417#~#255#~#11.00"]
["PUPUN33333330000000414","04/2000",{"$f":"Calculation!B57","v":7450},{"$f":"Calculation!D57","v":621},{"$f":"Calculation!E57","v":0},{"$f":"Calculation!F57","v":417},{"$f":"Calculation!J57","v":264},"11.00","PUPUN33333330000000414#~#04/2000#~#7450#~#621#~#0#~#417#~#264#~#11.00"]
["PUPUN33333330000000414","05/2000",{"$f":"Calculation!B58","v":7583},{"$f":"Calculation!D58","v":632},{"$f":"Calculation!E58","v":0},{"$f":"Calculation!F58","v":417},{"$f":"Calculation!J58","v":277},"11.00","PUPUN33333330000000414#~#05/2000#~#7583#~#632#~#0#~#417#~#277#~#11.00"]
["PUPUN33333330000000414","06/2000",{"$f":"Calculation!B59","v":7800},{"$f":"Calculation!D59","v":650},{"$f":"Calculation!E59","v":0},{"$f":"Calculation!F59","v":417},{"$f":"Calculation!J59","v":292},"11.00","PUPUN33333330000000414#~#06/2000#~#7800#~#650#~#0#~#417#~#292#~#11.00"]
["PUPUN33333330000000414","07/2000",{"$f":"Calculation!B60","v":7967},{"$f":"Calculation!D60","v":664},{"$f":"Calculation!E60","v":0},{"$f":"Calculation!F60","v":417},{"$f":"Calculation!J60","v":308},"11.00","PUPUN33333330000000414#~#07/2000#~#7967#~#664#~#0#~#417#~#308#~#11.00"]
["PUPUN33333330000000414","08/2000",{"$f":"Calculation!B61","v":8000},{"$f":"Calculation!D61","v":666},{"$f":"Calculation!E61","v":0},{"$f":"Calculation!F61","v":417},{"$f":"Calculation!J61","v":312},"11.00","PUPUN33333330000000414#~#08/2000#~#8000#~#666#~#0#~#417#~#312#~#11.00"]
["PUPUN33333330000000414","09/2000",{"$f":"Calculation!B62","v":7975},{"$f":"Calculation!D62","v":664},{"$f":"Calculation!E62","v":0},{"$f":"Calculation!F62","v":417},{"$f":"Calculation!J62","v":312},"11.00","PUPUN33333330000000414#~#09/2000#~#7975#~#664#~#0#~#417#~#312#~#11.00"]
["PUPUN33333330000000414","10/2000",{"$f":"Calculation!B63","v":7783},{"$f":"Calculation!D63","v":648},{"$f":"Calculation!E63","v":0},{"$f":"Calculation!F63","v":417},{"$f":"Calculation!J63","v":299},"11.00","PUPUN33333330000000414#~#10/2000#~#7783#~#648#~#0#~#417#~#299#~#11.00"]
["PUPUN33333330000000414","11/2000",{"$f":"Calculation!B64","v":7900},{"$f":"Calculation!D64","v":658},{"$f":"Calculation!E64","v":0},{"$f":"Calculation!F64","v":417},{"$f":"Calculation!J64","v":311},"11.00","PUPUN33333330000000414#~#11/2000#~#7900#~#658#~#0#~#417#~#311#~#11.00"]
["PUPUN33333330000000414","12/2000",{"$f":"Calculation!B65","v":8017},{"$f":"Calculation!D65","v":668},{"$f":"Calculation!E65","v":0},{"$f":"Calculation!F65","v":417},{"$f":"Calculation!J65","v":323},"11.00","PUPUN33333330000000414#~#12/2000#~#8017#~#668#~#0#~#417#~#323#~#11.00"]
["PUPUN33333330000000414","01/2001",{"$f":"Calculation!B66","v":8067},{"$f":"Calculation!D66","v":672},{"$f":"Calculation!E66","v":0},{"$f":"Calculation!F66","v":417},{"$f":"Calculation!J66","v":329},"11.00","PUPUN33333330000000414#~#01/2001#~#8067#~#672#~#0#~#417#~#329#~#11.00"]
["PUPUN33333330000000414","02/2001",{"$f":"Calculation!B67","v":7983},{"$f":"Calculation!D67","v":665},{"$f":"Calculation!E67","v":0},{"$f":"Calculation!F67","v":417},{"$f":"Calculation!J67","v":325},"11.00","PUPUN33333330000000414#~#02/2001#~#7983#~#665#~#0#~#417#~#325#~#11.00"]
["PUPUN33333330000000414","03/2001",{"$f":"Calculation!B68","v":8083},{"$f":"Calculation!D68","v":673},{"$f":"Calculation!E68","v":0},{"$f":"Calculation!F68","v":417},{"$f":"Calculation!J68","v":330},"9.50",{"$f":"CONCATENATE(A66,\"#~#\",B66,\"#~#\",C66,\"#~#\",D66,\"#~#\",E66,\"#~#\",F66,\"#~#\",G66,\"#~#\",H66)","v":"PUPUN33333330000000414#~#03/2001#~#8083#~#673#~#0#~#417#~#330#~#9.50"}]
["PUPUN33333330000000414","04/2001",{"$f":"Calculation!B69","v":8008},{"$f":"Calculation!D69","v":667},{"$f":"Calculation!E69","v":0},{"$f":"Calculation!F69","v":417},{"$f":"Calculation!J69","v":326},"9.50","PUPUN33333330000000414#~#04/2001#~#8008#~#667#~#0#~#417#~#326#~#9.50"]
["PUPUN33333330000000414","05/2001",{"$f":"Calculation!B70","v":7808},{"$f":"Calculation!D70","v":650},{"$f":"Calculation!E70","v":0},{"$f":"Calculation!F70","v":417},{"$f":"Calculation!J70","v":311},"9.50","PUPUN33333330000000414#~#05/2001#~#7808#~#650#~#0#~#417#~#311#~#9.50"]
["PUPUN33333330000000414","06/2001",{"$f":"Calculation!B71","v":8283},{"$f":"Calculation!D71","v":690},{"$f":"Calculation!E71","v":0},{"$f":"Calculation!F71","v":541},{"$f":"Calculation!J71","v":229},"9.50","PUPUN33333330000000414#~#06/2001#~#8283#~#690#~#0#~#541#~#229#~#9.50"]
["PUPUN33333330000000414","07/2001",{"$f":"Calculation!B72","v":8275},{"$f":"Calculation!D72","v":689},{"$f":"Calculation!E72","v":0},{"$f":"Calculation!F72","v":541},{"$f":"Calculation!J72","v":229},"9.50","PUPUN33333330000000414#~#07/2001#~#8275#~#689#~#0#~#541#~#229#~#9.50"]
["PUPUN33333330000000414","08/2001",{"$f":"Calculation!B73","v":8375},{"$f":"Calculation!D73","v":698},{"$f":"Calculation!E73","v":0},{"$f":"Calculation!F73","v":541},{"$f":"Calculation!J73","v":239},"9.50","PUPUN33333330000000414#~#08/2001#~#8375#~#698#~#0#~#541#~#239#~#9.50"]
["PUPUN33333330000000414","09/2001",{"$f":"Calculation!B74","v":8242},{"$f":"Calculation!D74","v":687},{"$f":"Calculation!E74","v":0},{"$f":"Calculation!F74","v":541},{"$f":"Calculation!J74","v":230},"9.50","PUPUN33333330000000414#~#09/2001#~#8242#~#687#~#0#~#541#~#230#~#9.50"]
["PUPUN33333330000000414","10/2001",{"$f":"Calculation!B75","v":8517},{"$f":"Calculation!D75","v":709},{"$f":"Calculation!E75","v":0},{"$f":"Calculation!F75","v":541},{"$f":"Calculation!J75","v":253},"9.50","PUPUN33333330000000414#~#10/2001#~#8517#~#709#~#0#~#541#~#253#~#9.50"]
["PUPUN33333330000000414","11/2001",{"$f":"Calculation!B76","v":8500},{"$f":"Calculation!D76","v":708},{"$f":"Calculation!E76","v":0},{"$f":"Calculation!F76","v":541},{"$f":"Calculation!J76","v":253},"9.50","PUPUN33333330000000414#~#11/2001#~#8500#~#708#~#0#~#541#~#253#~#9.50"]
["PUPUN33333330000000414","12/2001",{"$f":"Calculation!B77","v":7983},{"$f":"Calculation!D77","v":665},{"$f":"Calculation!E77","v":0},{"$f":"Calculation!F77","v":541},{"$f":"Calculation!J77","v":212},"9.50","PUPUN33333330000000414#~#12/2001#~#7983#~#665#~#0#~#541#~#212#~#9.50"]
["PUPUN33333330000000414","01/2002",{"$f":"Calculation!B78","v":8608},{"$f":"Calculation!D78","v":717},{"$f":"Calculation!E78","v":0},{"$f":"Calculation!F78","v":541},{"$f":"Calculation!J78","v":265},"9.50","PUPUN33333330000000414#~#01/2002#~#8608#~#717#~#0#~#541#~#265#~#9.50"]
["PUPUN33333330000000414","02/2002",{"$f":"Calculation!B79","v":8550},{"$f":"Calculation!D79","v":712},{"$f":"Calculation!E79","v":0},{"$f":"Calculation!F79","v":541},{"$f":"Calculation!J79","v":261},"9.50","PUPUN33333330000000414#~#02/2002#~#8550#~#712#~#0#~#541#~#261#~#9.50"]
["PUPUN33333330000000414","03/2002",{"$f":"Calculation!B80","v":8675},{"$f":"Calculation!D80","v":723},{"$f":"Calculation!E80","v":0},{"$f":"Calculation!F80","v":541},{"$f":"Calculation!J80","v":281},"9.50","PUPUN33333330000000414#~#03/2002#~#8675#~#723#~#0#~#541#~#281#~#9.50"]
["PUPUN33333330000000414","04/2002",{"$f":"Calculation!B81","v":8817},{"$f":"Calculation!D81","v":734},{"$f":"Calculation!E81","v":0},{"$f":"Calculation!F81","v":541},{"$f":"Calculation!J81","v":294},"9.50","PUPUN33333330000000414#~#04/2002#~#8817#~#734#~#0#~#541#~#294#~#9.50"]
["PUPUN33333330000000414","05/2002",{"$f":"Calculation!B82","v":8992},{"$f":"Calculation!D82","v":749},{"$f":"Calculation!E82","v":0},{"$f":"Calculation!F82","v":541},{"$f":"Calculation!J82","v":310},"9.50","PUPUN33333330000000414#~#05/2002#~#8992#~#749#~#0#~#541#~#310#~#9.50"]
["PUPUN33333330000000414","06/2002",{"$f":"Calculation!B83","v":9017},{"$f":"Calculation!D83","v":751},{"$f":"Calculation!E83","v":0},{"$f":"Calculation!F83","v":541},{"$f":"Calculation!J83","v":314},"9.50","PUPUN33333330000000414#~#06/2002#~#9017#~#751#~#0#~#541#~#314#~#9.50"]
["PUPUN33333330000000414","07/2002",{"$f":"Calculation!B84","v":9033},{"$f":"Calculation!D84","v":752},{"$f":"Calculation!E84","v":0},{"$f":"Calculation!F84","v":541},{"$f":"Calculation!J84","v":316},"9.50","PUPUN33333330000000414#~#07/2002#~#9033#~#752#~#0#~#541#~#316#~#9.50"]
["PUPUN33333330000000414","08/2002",{"$f":"Calculation!B85","v":9125},{"$f":"Calculation!D85","v":760},{"$f":"Calculation!E85","v":0},{"$f":"Calculation!F85","v":541},{"$f":"Calculation!J85","v":326},"9.50","PUPUN33333330000000414#~#08/2002#~#9125#~#760#~#0#~#541#~#326#~#9.50"]
["PUPUN33333330000000414","09/2002",{"$f":"Calculation!B86","v":9133},{"$f":"Calculation!D86","v":761},{"$f":"Calculation!E86","v":0},{"$f":"Calculation!F86","v":541},{"$f":"Calculation!J86","v":329},"9.50","PUPUN33333330000000414#~#09/2002#~#9133#~#761#~#0#~#541#~#329#~#9.50"]
["PUPUN33333330000000414","10/2002",{"$f":"Calculation!B87","v":8858},{"$f":"Calculation!D87","v":738},{"$f":"Calculation!E87","v":0},{"$f":"Calculation!F87","v":541},{"$f":"Calculation!J87","v":308},"9.50","PUPUN33333330000000414#~#10/2002#~#8858#~#738#~#0#~#541#~#308#~#9.50"]
["PUPUN33333330000000414","11/2002",{"$f":"Calculation!B88","v":9200},{"$f":"Calculation!D88","v":766},{"$f":"Calculation!E88","v":0},{"$f":"Calculation!F88","v":541},{"$f":"Calculation!J88","v":337},"9.50","PUPUN33333330000000414#~#11/2002#~#9200#~#766#~#0#~#541#~#337#~#9.50"]
["PUPUN33333330000000414","12/2002",{"$f":"Calculation!B89","v":9200},{"$f":"Calculation!D89","v":766},{"$f":"Calculation!E89","v":0},{"$f":"Calculation!F89","v":541},{"$f":"Calculation!J89","v":339},"9.50","PUPUN33333330000000414#~#12/2002#~#9200#~#766#~#0#~#541#~#339#~#9.50"]
["PUPUN33333330000000414","01/2003",{"$f":"Calculation!B90","v":9242},{"$f":"Calculation!D90","v":770},{"$f":"Calculation!E90","v":0},{"$f":"Calculation!F90","v":541},{"$f":"Calculation!J90","v":345},"9.50","PUPUN33333330000000414#~#01/2003#~#9242#~#770#~#0#~#541#~#345#~#9.50"]
["PUPUN33333330000000414","02/2003",{"$f":"Calculation!B91","v":9317},{"$f":"Calculation!D91","v":776},{"$f":"Calculation!E91","v":0},{"$f":"Calculation!F91","v":541},{"$f":"Calculation!J91","v":352},"9.50","PUPUN33333330000000414#~#02/2003#~#9317#~#776#~#0#~#541#~#352#~#9.50"]
["PUPUN33333330000000414","03/2003",{"$f":"Calculation!B92","v":9408},{"$f":"Calculation!D92","v":784},{"$f":"Calculation!E92","v":0},{"$f":"Calculation!F92","v":541},{"$f":"Calculation!J92","v":373},"9.50","PUPUN33333330000000414#~#03/2003#~#9408#~#784#~#0#~#541#~#373#~#9.50"]
["PUPUN33333330000000414","04/2003",{"$f":"Calculation!B93","v":9408},{"$f":"Calculation!D93","v":784},{"$f":"Calculation!E93","v":0},{"$f":"Calculation!F93","v":541},{"$f":"Calculation!J93","v":375},"9.50","PUPUN33333330000000414#~#04/2003#~#9408#~#784#~#0#~#541#~#375#~#9.50"]
["PUPUN33333330000000414","05/2003",{"$f":"Calculation!B94","v":9633},{"$f":"Calculation!D94","v":802},{"$f":"Calculation!E94","v":0},{"$f":"Calculation!F94","v":541},{"$f":"Calculation!J94","v":394},"9.50","PUPUN33333330000000414#~#05/2003#~#9633#~#802#~#0#~#541#~#394#~#9.50"]
["PUPUN33333330000000414","06/2003",{"$f":"Calculation!B95","v":9767},{"$f":"Calculation!D95","v":814},{"$f":"Calculation!E95","v":0},{"$f":"Calculation!F95","v":541},{"$f":"Calculation!J95","v":409},"9.50","PUPUN33333330000000414#~#06/2003#~#9767#~#814#~#0#~#541#~#409#~#9.50"]
["PUPUN33333330000000414","07/2003",{"$f":"Calculation!B96","v":9783},{"$f":"Calculation!D96","v":815},{"$f":"Calculation!E96","v":0},{"$f":"Calculation!F96","v":541},{"$f":"Calculation!J96","v":412},"9.50","PUPUN33333330000000414#~#07/2003#~#9783#~#815#~#0#~#541#~#412#~#9.50"]
["PUPUN33333330000000414","08/2003",{"$f":"Calculation!B97","v":9467},{"$f":"Calculation!D97","v":789},{"$f":"Calculation!E97","v":0},{"$f":"Calculation!F97","v":541},{"$f":"Calculation!J97","v":388},"9.50","PUPUN33333330000000414#~#08/2003#~#9467#~#789#~#0#~#541#~#388#~#9.50"]
["PUPUN33333330000000414","09/2003",{"$f":"Calculation!B98","v":9850},{"$f":"Calculation!D98","v":821},{"$f":"Calculation!E98","v":0},{"$f":"Calculation!F98","v":541},{"$f":"Calculation!J98","v":422},"9.50","PUPUN33333330000000414#~#09/2003#~#9850#~#821#~#0#~#541#~#422#~#9.50"]
["PUPUN33333330000000414","10/2003",{"$f":"Calculation!B99","v":9733},{"$f":"Calculation!D99","v":811},{"$f":"Calculation!E99","v":0},{"$f":"Calculation!F99","v":541},{"$f":"Calculation!J99","v":414},"9.50","PUPUN33333330000000414#~#10/2003#~#9733#~#811#~#0#~#541#~#414#~#9.50"]
["PUPUN33333330000000414","11/2003",{"$f":"Calculation!B100","v":9733},{"$f":"Calculation!D100","v":811},{"$f":"Calculation!E100","v":0},{"$f":"Calculation!F100","v":541},{"$f":"Calculation!J100","v":416},"9.50","PUPUN33333330000000414#~#11/2003#~#9733#~#811#~#0#~#541#~#416#~#9.50"]
["PUPUN33333330000000414","12/2003",{"$f":"Calculation!B101","v":9767},{"$f":"Calculation!D101","v":814},{"$f":"Calculation!E101","v":0},{"$f":"Calculation!F101","v":541},{"$f":"Calculation!J101","v":421},"9.50","PUPUN33333330000000414#~#12/2003#~#9767#~#814#~#0#~#541#~#421#~#9.50"]
["PUPUN33333330000000414","01/2004",{"$f":"Calculation!B102","v":9800},{"$f":"Calculation!D102","v":816},{"$f":"Calculation!E102","v":0},{"$f":"Calculation!F102","v":541},{"$f":"Calculation!J102","v":425},"9.50","PUPUN33333330000000414#~#01/2004#~#9800#~#816#~#0#~#541#~#425#~#9.50"]
["PUPUN33333330000000414","02/2004",{"$f":"Calculation!B103","v":9850},{"$f":"Calculation!D103","v":821},{"$f":"Calculation!E103","v":0},{"$f":"Calculation!F103","v":541},{"$f":"Calculation!J103","v":433},"9.50","PUPUN33333330000000414#~#02/2004#~#9850#~#821#~#0#~#541#~#433#~#9.50"]
["PUPUN33333330000000414","03/2004",{"$f":"Calculation!B104","v":9850},{"$f":"Calculation!D104","v":821},{"$f":"Calculation!E104","v":0},{"$f":"Calculation!F104","v":541},{"$f":"Calculation!J104","v":448},"9.50","PUPUN33333330000000414#~#03/2004#~#9850#~#821#~#0#~#541#~#448#~#9.50"]
["PUPUN33333330000000414","04/2004",{"$f":"Calculation!B105","v":9933},{"$f":"Calculation!D105","v":827},{"$f":"Calculation!E105","v":0},{"$f":"Calculation!F105","v":541},{"$f":"Calculation!J105","v":456},"9.50","PUPUN33333330000000414#~#04/2004#~#9933#~#827#~#0#~#541#~#456#~#9.50"]
["PUPUN33333330000000414","05/2004",{"$f":"Calculation!B106","v":10133},{"$f":"Calculation!D106","v":844},{"$f":"Calculation!E106","v":0},{"$f":"Calculation!F106","v":541},{"$f":"Calculation!J106","v":476},"9.50","PUPUN33333330000000414#~#05/2004#~#10133#~#844#~#0#~#541#~#476#~#9.50"]
["PUPUN33333330000000414","06/2004",{"$f":"Calculation!B107","v":10158},{"$f":"Calculation!D107","v":846},{"$f":"Calculation!E107","v":0},{"$f":"Calculation!F107","v":541},{"$f":"Calculation!J107","v":480},"9.50","PUPUN33333330000000414#~#06/2004#~#10158#~#846#~#0#~#541#~#480#~#9.50"]
["PUPUN33333330000000414","07/2004",{"$f":"Calculation!B108","v":10183},{"$f":"Calculation!D108","v":848},{"$f":"Calculation!E108","v":0},{"$f":"Calculation!F108","v":541},{"$f":"Calculation!J108","v":485},"9.50","PUPUN33333330000000414#~#07/2004#~#10183#~#848#~#0#~#541#~#485#~#9.50"]
["PUPUN33333330000000414","08/2004",{"$f":"Calculation!B109","v":10225},{"$f":"Calculation!D109","v":852},{"$f":"Calculation!E109","v":0},{"$f":"Calculation!F109","v":541},{"$f":"Calculation!J109","v":491},"9.50","PUPUN33333330000000414#~#08/2004#~#10225#~#852#~#0#~#541#~#491#~#9.50"]
["PUPUN33333330000000414","09/2004",{"$f":"Calculation!B110","v":10325},{"$f":"Calculation!D110","v":860},{"$f":"Calculation!E110","v":0},{"$f":"Calculation!F110","v":541},{"$f":"Calculation!J110","v":501},"9.50","PUPUN33333330000000414#~#09/2004#~#10325#~#860#~#0#~#541#~#501#~#9.50"]
["PUPUN33333330000000414","10/2004",{"$f":"Calculation!B111","v":10367},{"$f":"Calculation!D111","v":864},{"$f":"Calculation!E111","v":0},{"$f":"Calculation!F111","v":541},{"$f":"Calculation!J111","v":508},"9.50","PUPUN33333330000000414#~#10/2004#~#10367#~#864#~#0#~#541#~#508#~#9.50"]
["PUPUN33333330000000414","11/2004",{"$f":"Calculation!B112","v":10400},{"$f":"Calculation!D112","v":866},{"$f":"Calculation!E112","v":0},{"$f":"Calculation!F112","v":541},{"$f":"Calculation!J112","v":513},"9.50","PUPUN33333330000000414#~#11/2004#~#10400#~#866#~#0#~#541#~#513#~#9.50"]
["PUPUN33333330000000414","12/2004",{"$f":"Calculation!B113","v":10442},{"$f":"Calculation!D113","v":870},{"$f":"Calculation!E113","v":0},{"$f":"Calculation!F113","v":541},{"$f":"Calculation!J113","v":519},"9.50","PUPUN33333330000000414#~#12/2004#~#10442#~#870#~#0#~#541#~#519#~#9.50"]
["PUPUN33333330000000414","01/2005",{"$f":"Calculation!B114","v":10425},{"$f":"Calculation!D114","v":868},{"$f":"Calculation!E114","v":0},{"$f":"Calculation!F114","v":541},{"$f":"Calculation!J114","v":520},"9.50","PUPUN33333330000000414#~#01/2005#~#10425#~#868#~#0#~#541#~#520#~#9.50"]
["PUPUN33333330000000414","02/2005",{"$f":"Calculation!B115","v":10375},{"$f":"Calculation!D115","v":864},{"$f":"Calculation!E115","v":0},{"$f":"Calculation!F115","v":541},{"$f":"Calculation!J115","v":518},"9.50","PUPUN33333330000000414#~#02/2005#~#10375#~#864#~#0#~#541#~#518#~#9.50"]
["PUPUN33333330000000414","03/2005",{"$f":"Calculation!B116","v":10508},{"$f":"Calculation!D116","v":875},{"$f":"Calculation!E116","v":0},{"$f":"Calculation!F116","v":541},{"$f":"Calculation!J116","v":526},"8.50","PUPUN33333330000000414#~#03/2005#~#10508#~#875#~#0#~#541#~#526#~#8.50"]
["PUPUN33333330000000414","04/2005",{"$f":"Calculation!B117","v":9942},{"$f":"Calculation!D117","v":828},{"$f":"Calculation!E117","v":0},{"$f":"Calculation!F117","v":541},{"$f":"Calculation!J117","v":482},"8.50","PUPUN33333330000000414#~#04/2005#~#9942#~#828#~#0#~#541#~#482#~#8.50"]
["PUPUN33333330000000414","05/2005",{"$f":"Calculation!B118","v":10617},{"$f":"Calculation!D118","v":884},{"$f":"Calculation!E118","v":0},{"$f":"Calculation!F118","v":541},{"$f":"Calculation!J118","v":540},"8.50","PUPUN33333330000000414#~#05/2005#~#10617#~#884#~#0#~#541#~#540#~#8.50"]
["PUPUN33333330000000414","06/2005",{"$f":"Calculation!B119","v":10658},{"$f":"Calculation!D119","v":888},{"$f":"Calculation!E119","v":0},{"$f":"Calculation!F119","v":541},{"$f":"Calculation!J119","v":546},"8.50","PUPUN33333330000000414#~#06/2005#~#10658#~#888#~#0#~#541#~#546#~#8.50"]
["PUPUN33333330000000414","07/2005",{"$f":"Calculation!B120","v":9958},{"$f":"Calculation!D120","v":830},{"$f":"Calculation!E120","v":0},{"$f":"Calculation!F120","v":541},{"$f":"Calculation!J120","v":491},"8.50","PUPUN33333330000000414#~#07/2005#~#9958#~#830#~#0#~#541#~#491#~#8.50"]
["PUPUN33333330000000414","08/2005",{"$f":"Calculation!B121","v":10075},{"$f":"Calculation!D121","v":839},{"$f":"Calculation!E121","v":0},{"$f":"Calculation!F121","v":541},{"$f":"Calculation!J121","v":502},"8.50","PUPUN33333330000000414#~#08/2005#~#10075#~#839#~#0#~#541#~#502#~#8.50"]
["PUPUN33333330000000414","09/2005",{"$f":"Calculation!B122","v":10317},{"$f":"Calculation!D122","v":859},{"$f":"Calculation!E122","v":0},{"$f":"Calculation!F122","v":541},{"$f":"Calculation!J122","v":524},"8.50","PUPUN33333330000000414#~#09/2005#~#10317#~#859#~#0#~#541#~#524#~#8.50"]
["PUPUN33333330000000414","10/2005",{"$f":"Calculation!B123","v":10433},{"$f":"Calculation!D123","v":869},{"$f":"Calculation!E123","v":0},{"$f":"Calculation!F123","v":541},{"$f":"Calculation!J123","v":536},"8.50","PUPUN33333330000000414#~#10/2005#~#10433#~#869#~#0#~#541#~#536#~#8.50"]
["PUPUN33333330000000414","11/2005",{"$f":"Calculation!B124","v":10400},{"$f":"Calculation!D124","v":866},{"$f":"Calculation!E124","v":0},{"$f":"Calculation!F124","v":541},{"$f":"Calculation!J124","v":535},"8.50","PUPUN33333330000000414#~#11/2005#~#10400#~#866#~#0#~#541#~#535#~#8.50"]
["PUPUN33333330000000414","12/2005",{"$f":"Calculation!B125","v":10533},{"$f":"Calculation!D125","v":877},{"$f":"Calculation!E125","v":0},{"$f":"Calculation!F125","v":541},{"$f":"Calculation!J125","v":549},"8.50","PUPUN33333330000000414#~#12/2005#~#10533#~#877#~#0#~#541#~#549#~#8.50"]
["PUPUN33333330000000414","01/2006",{"$f":"Calculation!B126","v":10617},{"$f":"Calculation!D126","v":884},{"$f":"Calculation!E126","v":0},{"$f":"Calculation!F126","v":541},{"$f":"Calculation!J126","v":558},"8.50","PUPUN33333330000000414#~#01/2006#~#10617#~#884#~#0#~#541#~#558#~#8.50"]
["PUPUN33333330000000414","02/2006",{"$f":"Calculation!B127","v":10658},{"$f":"Calculation!D127","v":888},{"$f":"Calculation!E127","v":0},{"$f":"Calculation!F127","v":541},{"$f":"Calculation!J127","v":565},"8.50","PUPUN33333330000000414#~#02/2006#~#10658#~#888#~#0#~#541#~#565#~#8.50"]
["PUPUN33333330000000414","03/2006",{"$f":"Calculation!B128","v":10567},{"$f":"Calculation!D128","v":880},{"$f":"Calculation!E128","v":0},{"$f":"Calculation!F128","v":541},{"$f":"Calculation!J128","v":576},"8.50","PUPUN33333330000000414#~#03/2006#~#10567#~#880#~#0#~#541#~#576#~#8.50"]
["PUPUN33333330000000414","04/2006",{"$f":"Calculation!B129","v":10817},{"$f":"Calculation!D129","v":901},{"$f":"Calculation!E129","v":0},{"$f":"Calculation!F129","v":541},{"$f":"Calculation!J129","v":600},"8.50","PUPUN33333330000000414#~#04/2006#~#10817#~#901#~#0#~#541#~#600#~#8.50"]
["PUPUN33333330000000414","05/2006",{"$f":"Calculation!B130","v":10792},{"$f":"Calculation!D130","v":899},{"$f":"Calculation!E130","v":0},{"$f":"Calculation!F130","v":541},{"$f":"Calculation!J130","v":600},"8.50","PUPUN33333330000000414#~#05/2006#~#10792#~#899#~#0#~#541#~#600#~#8.50"]
["PUPUN33333330000000414","06/2006",{"$f":"Calculation!B131","v":12233},{"$f":"Calculation!D131","v":1019},{"$f":"Calculation!E131","v":0},{"$f":"Calculation!F131","v":541},{"$f":"Calculation!J131","v":723},"8.50","PUPUN33333330000000414#~#06/2006#~#12233#~#1019#~#0#~#541#~#723#~#8.50"]
["PUPUN33333330000000414","07/2006",{"$f":"Calculation!B132","v":13025},{"$f":"Calculation!D132","v":1085},{"$f":"Calculation!E132","v":0},{"$f":"Calculation!F132","v":541},{"$f":"Calculation!J132","v":792},"8.50",{"$f":"CONCATENATE(A130,\"#~#\",B130,\"#~#\",C130,\"#~#\",D130,\"#~#\",E130,\"#~#\",F130,\"#~#\",G130,\"#~#\",H130)","v":"PUPUN33333330000000414#~#07/2006#~#13025#~#1085#~#0#~#541#~#792#~#8.50"}]
["PUPUN33333330000000414","08/2006",{"$f":"Calculation!B133","v":13908},{"$f":"Calculation!D133","v":1159},{"$f":"Calculation!E133","v":0},{"$f":"Calculation!F133","v":541},{"$f":"Calculation!J133","v":870},"8.50","PUPUN33333330000000414#~#08/2006#~#13908#~#1159#~#0#~#541#~#870#~#8.50"]
["PUPUN33333330000000414","09/2006",{"$f":"Calculation!B134","v":13267},{"$f":"Calculation!D134","v":1105},{"$f":"Calculation!E134","v":0},{"$f":"Calculation!F134","v":541},{"$f":"Calculation!J134","v":821},"8.50","PUPUN33333330000000414#~#09/2006#~#13267#~#1105#~#0#~#541#~#821#~#8.50"]
["PUPUN33333330000000414","10/2006",{"$f":"Calculation!B135","v":13367},{"$f":"Calculation!D135","v":1113},{"$f":"Calculation!E135","v":0},{"$f":"Calculation!F135","v":541},{"$f":"Calculation!J135","v":833},"8.50","PUPUN33333330000000414#~#10/2006#~#13367#~#1113#~#0#~#541#~#833#~#8.50"]
["PUPUN33333330000000414","11/2006",{"$f":"Calculation!B136","v":13408},{"$f":"Calculation!D136","v":1117},{"$f":"Calculation!E136","v":0},{"$f":"Calculation!F136","v":541},{"$f":"Calculation!J136","v":841},"8.50","PUPUN33333330000000414#~#11/2006#~#13408#~#1117#~#0#~#541#~#841#~#8.50"]
["PUPUN33333330000000414","12/2006",{"$f":"Calculation!B137","v":13583},{"$f":"Calculation!D137","v":1131},{"$f":"Calculation!E137","v":0},{"$f":"Calculation!F137","v":541},{"$f":"Calculation!J137","v":859},"8.50","PUPUN33333330000000414#~#12/2006#~#13583#~#1131#~#0#~#541#~#859#~#8.50"]
["PUPUN33333330000000414","01/2007",{"$f":"Calculation!B138","v":13500},{"$f":"Calculation!D138","v":1125},{"$f":"Calculation!E138","v":0},{"$f":"Calculation!F138","v":541},{"$f":"Calculation!J138","v":857},"8.50","PUPUN33333330000000414#~#01/2007#~#13500#~#1125#~#0#~#541#~#857#~#8.50"]
["PUPUN33333330000000414","02/2007",{"$f":"Calculation!B139","v":13483},{"$f":"Calculation!D139","v":1123},{"$f":"Calculation!E139","v":0},{"$f":"Calculation!F139","v":541},{"$f":"Calculation!J139","v":859},"8.50","PUPUN33333330000000414#~#02/2007#~#13483#~#1123#~#0#~#541#~#859#~#8.50"]
["PUPUN33333330000000414","03/2007",{"$f":"Calculation!B140","v":13583},{"$f":"Calculation!D140","v":1131},{"$f":"Calculation!E140","v":0},{"$f":"Calculation!F140","v":541},{"$f":"Calculation!J140","v":893},"8.50","PUPUN33333330000000414#~#03/2007#~#13583#~#1131#~#0#~#541#~#893#~#8.50"]
["PUPUN33333330000000414","04/2007",{"$f":"Calculation!B141","v":13583},{"$f":"Calculation!D141","v":1131},{"$f":"Calculation!E141","v":0},{"$f":"Calculation!F141","v":541},{"$f":"Calculation!J141","v":897},"8.50","PUPUN33333330000000414#~#04/2007#~#13583#~#1131#~#0#~#541#~#897#~#8.50"]
["PUPUN33333330000000414","05/2007",{"$f":"Calculation!B142","v":13600},{"$f":"Calculation!D142","v":1133},{"$f":"Calculation!E142","v":0},{"$f":"Calculation!F142","v":541},{"$f":"Calculation!J142","v":903},"8.50","PUPUN33333330000000414#~#05/2007#~#13600#~#1133#~#0#~#541#~#903#~#8.50"]
["PUPUN33333330000000414","06/2007",{"$f":"Calculation!B143","v":9267},{"$f":"Calculation!D143","v":772},{"$f":"Calculation!E143","v":0},{"$f":"Calculation!F143","v":541},{"$f":"Calculation!J143","v":546},"8.50","PUPUN33333330000000414#~#06/2007#~#9267#~#772#~#0#~#541#~#546#~#8.50"]
["PUPUN33333330000000414","07/2007",{"$f":"Calculation!B144","v":12075},{"$f":"Calculation!D144","v":1006},{"$f":"Calculation!E144","v":0},{"$f":"Calculation!F144","v":541},{"$f":"Calculation!J144","v":782},"8.50","PUPUN33333330000000414#~#07/2007#~#12075#~#1006#~#0#~#541#~#782#~#8.50"]
["PUPUN33333330000000414","08/2007",{"$f":"Calculation!B145","v":12208},{"$f":"Calculation!D145","v":1017},{"$f":"Calculation!E145","v":0},{"$f":"Calculation!F145","v":541},{"$f":"Calculation!J145","v":796},"8.50","PUPUN33333330000000414#~#08/2007#~#12208#~#1017#~#0#~#541#~#796#~#8.50"]
["PUPUN33333330000000414","09/2007",{"$f":"Calculation!B146","v":12283},{"$f":"Calculation!D146","v":1023},{"$f":"Calculation!E146","v":0},{"$f":"Calculation!F146","v":541},{"$f":"Calculation!J146","v":806},"8.50","PUPUN33333330000000414#~#09/2007#~#12283#~#1023#~#0#~#541#~#806#~#8.50"]
["PUPUN33333330000000414","10/2007",{"$f":"Calculation!B147","v":12258},{"$f":"Calculation!D147","v":1021},{"$f":"Calculation!E147","v":0},{"$f":"Calculation!F147","v":541},{"$f":"Calculation!J147","v":807},"8.50","PUPUN33333330000000414#~#10/2007#~#12258#~#1021#~#0#~#541#~#807#~#8.50"]
["PUPUN33333330000000414","11/2007",{"$f":"Calculation!B148","v":12333},{"$f":"Calculation!D148","v":1027},{"$f":"Calculation!E148","v":0},{"$f":"Calculation!F148","v":541},{"$f":"Calculation!J148","v":817},"8.50","PUPUN33333330000000414#~#11/2007#~#12333#~#1027#~#0#~#541#~#817#~#8.50"]
["PUPUN33333330000000414","12/2007",{"$f":"Calculation!B149","v":12475},{"$f":"Calculation!D149","v":1039},{"$f":"Calculation!E149","v":0},{"$f":"Calculation!F149","v":541},{"$f":"Calculation!J149","v":832},"8.50","PUPUN33333330000000414#~#12/2007#~#12475#~#1039#~#0#~#541#~#832#~#8.50"]
["PUPUN33333330000000414","01/2008",{"$f":"Calculation!B150","v":12408},{"$f":"Calculation!D150","v":1034},{"$f":"Calculation!E150","v":0},{"$f":"Calculation!F150","v":541},{"$f":"Calculation!J150","v":830},"8.50","PUPUN33333330000000414#~#01/2008#~#12408#~#1034#~#0#~#541#~#830#~#8.50"]
["PUPUN33333330000000414","02/2008",{"$f":"Calculation!B151","v":13858},{"$f":"Calculation!D151","v":1154},{"$f":"Calculation!E151","v":0},{"$f":"Calculation!F151","v":541},{"$f":"Calculation!J151","v":954},"8.50","PUPUN33333330000000414#~#02/2008#~#13858#~#1154#~#0#~#541#~#954#~#8.50"]
["PUPUN33333330000000414","03/2008",{"$f":"Calculation!B152","v":12942},{"$f":"Calculation!D152","v":1078},{"$f":"Calculation!E152","v":0},{"$f":"Calculation!F152","v":541},{"$f":"Calculation!J152","v":910},"8.50","PUPUN33333330000000414#~#03/2008#~#12942#~#1078#~#0#~#541#~#910#~#8.50"]
["PUPUN33333330000000414","04/2008",{"$f":"Calculation!B153","v":12475},{"$f":"Calculation!D153","v":1039},{"$f":"Calculation!E153","v":0},{"$f":"Calculation!F153","v":541},{"$f":"Calculation!J153","v":875},"8.50","PUPUN33333330000000414#~#04/2008#~#12475#~#1039#~#0#~#541#~#875#~#8.50"]
["PUPUN33333330000000414","05/2008",{"$f":"Calculation!B154","v":12600},{"$f":"Calculation!D154","v":1050},{"$f":"Calculation!E154","v":0},{"$f":"Calculation!F154","v":541},{"$f":"Calculation!J154","v":889},"8.50","PUPUN33333330000000414#~#05/2008#~#12600#~#1050#~#0#~#541#~#889#~#8.50"]
["PUPUN33333330000000414","06/2008",{"$f":"Calculation!B155","v":12592},{"$f":"Calculation!D155","v":1049},{"$f":"Calculation!E155","v":0},{"$f":"Calculation!F155","v":541},{"$f":"Calculation!J155","v":892},"8.50","PUPUN33333330000000414#~#06/2008#~#12592#~#1049#~#0#~#541#~#892#~#8.50"]
["PUPUN33333330000000414","07/2008",{"$f":"Calculation!B156","v":12742},{"$f":"Calculation!D156","v":1061},{"$f":"Calculation!E156","v":0},{"$f":"Calculation!F156","v":541},{"$f":"Calculation!J156","v":907},"8.50","PUPUN33333330000000414#~#07/2008#~#12742#~#1061#~#0#~#541#~#907#~#8.50"]
["PUPUN33333330000000414","08/2008",{"$f":"Calculation!B157","v":12800},{"$f":"Calculation!D157","v":1066},{"$f":"Calculation!E157","v":0},{"$f":"Calculation!F157","v":541},{"$f":"Calculation!J157","v":916},"8.50","PUPUN33333330000000414#~#08/2008#~#12800#~#1066#~#0#~#541#~#916#~#8.50"]
["PUPUN33333330000000414","09/2008",{"$f":"Calculation!B158","v":12925},{"$f":"Calculation!D158","v":1077},{"$f":"Calculation!E158","v":0},{"$f":"Calculation!F158","v":541},{"$f":"Calculation!J158","v":931},"8.50","PUPUN33333330000000414#~#09/2008#~#12925#~#1077#~#0#~#541#~#931#~#8.50"]
["PUPUN33333330000000414","10/2008",{"$f":"Calculation!B159","v":12992},{"$f":"Calculation!D159","v":1082},{"$f":"Calculation!E159","v":0},{"$f":"Calculation!F159","v":541},{"$f":"Calculation!J159","v":939},"8.50","PUPUN33333330000000414#~#10/2008#~#12992#~#1082#~#0#~#541#~#939#~#8.50"]
["PUPUN33333330000000414","11/2008",{"$f":"Calculation!B160","v":13058},{"$f":"Calculation!D160","v":1088},{"$f":"Calculation!E160","v":0},{"$f":"Calculation!F160","v":541},{"$f":"Calculation!J160","v":949},"8.50","PUPUN33333330000000414#~#11/2008#~#13058#~#1088#~#0#~#541#~#949#~#8.50"]
["PUPUN33333330000000414","12/2008",{"$f":"Calculation!B161","v":13383},{"$f":"Calculation!D161","v":1115},{"$f":"Calculation!E161","v":0},{"$f":"Calculation!F161","v":541},{"$f":"Calculation!J161","v":980},"8.50","PUPUN33333330000000414#~#12/2008#~#13383#~#1115#~#0#~#541#~#980#~#8.50"]
["PUPUN33333330000000414","01/2009",{"$f":"Calculation!B162","v":13325},{"$f":"Calculation!D162","v":1110},{"$f":"Calculation!E162","v":0},{"$f":"Calculation!F162","v":541},{"$f":"Calculation!J162","v":979},"8.50","PUPUN33333330000000414#~#01/2009#~#13325#~#1110#~#0#~#541#~#979#~#8.50"]
["PUPUN33333330000000414","02/2009",{"$f":"Calculation!B163","v":14600},{"$f":"Calculation!D163","v":1216},{"$f":"Calculation!E163","v":0},{"$f":"Calculation!F163","v":541},{"$f":"Calculation!J163","v":1089},"8.50","PUPUN33333330000000414#~#02/2009#~#14600#~#1216#~#0#~#541#~#1089#~#8.50"]
["PUPUN33333330000000414","03/2009",{"$f":"Calculation!B164","v":13458},{"$f":"Calculation!D164","v":1121},{"$f":"Calculation!E164","v":0},{"$f":"Calculation!F164","v":541},{"$f":"Calculation!J164","v":1032},"8.50","PUPUN33333330000000414#~#03/2009#~#13458#~#1121#~#0#~#541#~#1032#~#8.50"]
["PUPUN33333330000000414","04/2009",{"$f":"Calculation!B165","v":13383},{"$f":"Calculation!D165","v":1115},{"$f":"Calculation!E165","v":0},{"$f":"Calculation!F165","v":541},{"$f":"Calculation!J165","v":1031},"8.50","PUPUN33333330000000414#~#04/2009#~#13383#~#1115#~#0#~#541#~#1031#~#8.50"]
["PUPUN33333330000000414","05/2009",{"$f":"Calculation!B166","v":13350},{"$f":"Calculation!D166","v":1112},{"$f":"Calculation!E166","v":0},{"$f":"Calculation!F166","v":541},{"$f":"Calculation!J166","v":1032},"8.50","PUPUN33333330000000414#~#05/2009#~#13350#~#1112#~#0#~#541#~#1032#~#8.50"]
["PUPUN33333330000000414","06/2009",{"$f":"Calculation!B167","v":13500},{"$f":"Calculation!D167","v":1125},{"$f":"Calculation!E167","v":0},{"$f":"Calculation!F167","v":541},{"$f":"Calculation!J167","v":1049},"8.50","PUPUN33333330000000414#~#06/2009#~#13500#~#1125#~#0#~#541#~#1049#~#8.50"]
["PUPUN33333330000000414","07/2009",{"$f":"Calculation!B168","v":13433},{"$f":"Calculation!D168","v":1119},{"$f":"Calculation!E168","v":0},{"$f":"Calculation!F168","v":541},{"$f":"Calculation!J168","v":1047},"8.50","PUPUN33333330000000414#~#07/2009#~#13433#~#1119#~#0#~#541#~#1047#~#8.50"]
["PUPUN33333330000000414","08/2009",{"$f":"Calculation!B169","v":13483},{"$f":"Calculation!D169","v":1123},{"$f":"Calculation!E169","v":0},{"$f":"Calculation!F169","v":541},{"$f":"Calculation!J169","v":1055},"8.50","PUPUN33333330000000414#~#08/2009#~#13483#~#1123#~#0#~#541#~#1055#~#8.50"]
["PUPUN33333330000000414","09/2009",{"$f":"Calculation!B170","v":13808},{"$f":"Calculation!D170","v":1150},{"$f":"Calculation!E170","v":0},{"$f":"Calculation!F170","v":541},{"$f":"Calculation!J170","v":1086},"8.50","PUPUN33333330000000414#~#09/2009#~#13808#~#1150#~#0#~#541#~#1086#~#8.50"]
["PUPUN33333330000000414","10/2009",{"$f":"Calculation!B171","v":13983},{"$f":"Calculation!D171","v":1165},{"$f":"Calculation!E171","v":0},{"$f":"Calculation!F171","v":541},{"$f":"Calculation!J171","v":1105},"8.50","PUPUN33333330000000414#~#10/2009#~#13983#~#1165#~#0#~#541#~#1105#~#8.50"]
["PUPUN33333330000000414","11/2009",{"$f":"Calculation!B172","v":13933},{"$f":"Calculation!D172","v":1161},{"$f":"Calculation!E172","v":0},{"$f":"Calculation!F172","v":541},{"$f":"Calculation!J172","v":1106},"8.50","PUPUN33333330000000414#~#11/2009#~#13933#~#1161#~#0#~#541#~#1106#~#8.50"]
["PUPUN33333330000000414","12/2009",{"$f":"Calculation!B173","v":14183},{"$f":"Calculation!D173","v":1181},{"$f":"Calculation!E173","v":0},{"$f":"Calculation!F173","v":541},{"$f":"Calculation!J173","v":1130},"8.50","PUPUN33333330000000414#~#12/2009#~#14183#~#1181#~#0#~#541#~#1130#~#8.50"]
["PUPUN33333330000000414","01/2010",{"$f":"Calculation!B174","v":12242},{"$f":"Calculation!D174","v":1020},{"$f":"Calculation!E174","v":0},{"$f":"Calculation!F174","v":541},{"$f":"Calculation!J174","v":974},"8.50","PUPUN33333330000000414#~#01/2010#~#12242#~#1020#~#0#~#541#~#974#~#8.50"]
["PUPUN33333330000000414","02/2010",{"$f":"Calculation!B175","v":14642},{"$f":"Calculation!D175","v":1220},{"$f":"Calculation!E175","v":0},{"$f":"Calculation!F175","v":541},{"$f":"Calculation!J175","v":1177},"8.50","PUPUN33333330000000414#~#02/2010#~#14642#~#1220#~#0#~#541#~#1177#~#8.50"]
["PUPUN33333330000000414","03/2010",{"$f":"Calculation!B176","v":14625},{"$f":"Calculation!D176","v":1218},{"$f":"Calculation!E176","v":0},{"$f":"Calculation!F176","v":541},{"$f":"Calculation!J176","v":1284},"9.50","PUPUN33333330000000414#~#03/2010#~#14625#~#1218#~#0#~#541#~#1284#~#9.50"]
["PUPUN33333330000000414","04/2010",{"$f":"Calculation!B177","v":14442},{"$f":"Calculation!D177","v":1203},{"$f":"Calculation!E177","v":0},{"$f":"Calculation!F177","v":541},{"$f":"Calculation!J177","v":1275},"9.50","PUPUN33333330000000414#~#04/2010#~#14442#~#1203#~#0#~#541#~#1275#~#9.50"]
["PUPUN33333330000000414","05/2010",{"$f":"Calculation!B178","v":14317},{"$f":"Calculation!D178","v":1193},{"$f":"Calculation!E178","v":0},{"$f":"Calculation!F178","v":541},{"$f":"Calculation!J178","v":1270},"9.50","PUPUN33333330000000414#~#05/2010#~#14317#~#1193#~#0#~#541#~#1270#~#9.50"]
["PUPUN33333330000000414","06/2010",{"$f":"Calculation!B179","v":14375},{"$f":"Calculation!D179","v":1197},{"$f":"Calculation!E179","v":0},{"$f":"Calculation!F179","v":541},{"$f":"Calculation!J179","v":1279},"9.50","PUPUN33333330000000414#~#06/2010#~#14375#~#1197#~#0#~#541#~#1279#~#9.50"]
["PUPUN33333330000000414","07/2010",{"$f":"Calculation!B180","v":14267},{"$f":"Calculation!D180","v":1188},{"$f":"Calculation!E180","v":0},{"$f":"Calculation!F180","v":541},{"$f":"Calculation!J180","v":1275},"9.50","PUPUN33333330000000414#~#07/2010#~#14267#~#1188#~#0#~#541#~#1275#~#9.50"]
["PUPUN33333330000000414","08/2010",{"$f":"Calculation!B181","v":14617},{"$f":"Calculation!D181","v":1218},{"$f":"Calculation!E181","v":0},{"$f":"Calculation!F181","v":541},{"$f":"Calculation!J181","v":1310},"9.50","PUPUN33333330000000414#~#08/2010#~#14617#~#1218#~#0#~#541#~#1310#~#9.50"]
["PUPUN33333330000000414","09/2010",{"$f":"Calculation!B182","v":14775},{"$f":"Calculation!D182","v":1231},{"$f":"Calculation!E182","v":0},{"$f":"Calculation!F182","v":541},{"$f":"Calculation!J182","v":1329},"9.50","PUPUN33333330000000414#~#09/2010#~#14775#~#1231#~#0#~#541#~#1329#~#9.50"]
["PUPUN33333330000000414","10/2010",{"$f":"Calculation!B183","v":14908},{"$f":"Calculation!D183","v":1242},{"$f":"Calculation!E183","v":0},{"$f":"Calculation!F183","v":541},{"$f":"Calculation!J183","v":1345},"9.50","PUPUN33333330000000414#~#10/2010#~#14908#~#1242#~#0#~#541#~#1345#~#9.50"]
["PUPUN33333330000000414","11/2010",{"$f":"Calculation!B184","v":15100},{"$f":"Calculation!D184","v":1258},{"$f":"Calculation!E184","v":0},{"$f":"Calculation!F184","v":541},{"$f":"Calculation!J184","v":1367},"9.50","PUPUN33333330000000414#~#11/2010#~#15100#~#1258#~#0#~#541#~#1367#~#9.50"]
["PUPUN33333330000000414","12/2010",{"$f":"Calculation!B185","v":15308},{"$f":"Calculation!D185","v":1275},{"$f":"Calculation!E185","v":0},{"$f":"Calculation!F185","v":541},{"$f":"Calculation!J185","v":1389},"9.50","PUPUN33333330000000414#~#12/2010#~#15308#~#1275#~#0#~#541#~#1389#~#9.50"]
["PUPUN33333330000000414","01/2011",{"$f":"Calculation!B186","v":15367},{"$f":"Calculation!D186","v":1280},{"$f":"Calculation!E186","v":0},{"$f":"Calculation!F186","v":541},{"$f":"Calculation!J186","v":1400},"9.50","PUPUN33333330000000414#~#01/2011#~#15367#~#1280#~#0#~#541#~#1400#~#9.50"]
["PUPUN33333330000000414","02/2011",{"$f":"Calculation!B187","v":15492},{"$f":"Calculation!D187","v":1290},{"$f":"Calculation!E187","v":0},{"$f":"Calculation!F187","v":541},{"$f":"Calculation!J187","v":1416},"9.50","PUPUN33333330000000414#~#02/2011#~#15492#~#1290#~#0#~#541#~#1416#~#9.50"]
["PUPUN33333330000000414","03/2011",{"$f":"Calculation!B188","v":15508},{"$f":"Calculation!D188","v":1292},{"$f":"Calculation!E188","v":0},{"$f":"Calculation!F188","v":541},{"$f":"Calculation!J188","v":1388},"8.25","PUPUN33333330000000414#~#03/2011#~#15508#~#1292#~#0#~#541#~#1388#~#8.25"]
["PUPUN33333330000000414","04/2011",{"$f":"Calculation!B189","v":15433},{"$f":"Calculation!D189","v":1286},{"$f":"Calculation!E189","v":0},{"$f":"Calculation!F189","v":541},{"$f":"Calculation!J189","v":1387},"8.25","PUPUN33333330000000414#~#04/2011#~#15433#~#1286#~#0#~#541#~#1387#~#8.25"]
["PUPUN33333330000000414","05/2011",{"$f":"Calculation!B190","v":15433},{"$f":"Calculation!D190","v":1286},{"$f":"Calculation!E190","v":0},{"$f":"Calculation!F190","v":541},{"$f":"Calculation!J190","v":1392},"8.25","PUPUN33333330000000414#~#05/2011#~#15433#~#1286#~#0#~#541#~#1392#~#8.25"]
["PUPUN33333330000000414","06/2011",{"$f":"Calculation!B191","v":15400},{"$f":"Calculation!D191","v":1283},{"$f":"Calculation!E191","v":0},{"$f":"Calculation!F191","v":541},{"$f":"Calculation!J191","v":1394},"8.25","PUPUN33333330000000414#~#06/2011#~#15400#~#1283#~#0#~#541#~#1394#~#8.25"]
["PUPUN33333330000000414","07/2011",{"$f":"Calculation!B192","v":15625},{"$f":"Calculation!D192","v":1302},{"$f":"Calculation!E192","v":0},{"$f":"Calculation!F192","v":541},{"$f":"Calculation!J192","v":1418},"8.25","PUPUN33333330000000414#~#07/2011#~#15625#~#1302#~#0#~#541#~#1418#~#8.25"]
["PUPUN33333330000000414","08/2011",{"$f":"Calculation!B193","v":15808},{"$f":"Calculation!D193","v":1317},{"$f":"Calculation!E193","v":0},{"$f":"Calculation!F193","v":541},{"$f":"Calculation!J193","v":1439},"8.25","PUPUN33333330000000414#~#08/2011#~#15808#~#1317#~#0#~#541#~#1439#~#8.25"]
["PUPUN33333330000000414","09/2011",{"$f":"Calculation!B194","v":15900},{"$f":"Calculation!D194","v":1324},{"$f":"Calculation!E194","v":0},{"$f":"Calculation!F194","v":541},{"$f":"Calculation!J194","v":1451},"8.25","PUPUN33333330000000414#~#09/2011#~#15900#~#1324#~#0#~#541#~#1451#~#8.25"]
["PUPUN33333330000000414","10/2011",{"$f":"Calculation!B195","v":16100},{"$f":"Calculation!D195","v":1341},{"$f":"Calculation!E195","v":0},{"$f":"Calculation!F195","v":541},{"$f":"Calculation!J195","v":1473},"8.25","PUPUN33333330000000414#~#10/2011#~#16100#~#1341#~#0#~#541#~#1473#~#8.25"]
["PUPUN33333330000000414","11/2011",{"$f":"Calculation!B196","v":16483},{"$f":"Calculation!D196","v":1373},{"$f":"Calculation!E196","v":0},{"$f":"Calculation!F196","v":541},{"$f":"Calculation!J196","v":1511},"8.25",{"$f":"CONCATENATE(A194,\"#~#\",B194,\"#~#\",C194,\"#~#\",D194,\"#~#\",E194,\"#~#\",F194,\"#~#\",G194,\"#~#\",H194)","v":"PUPUN33333330000000414#~#11/2011#~#16483#~#1373#~#0#~#541#~#1511#~#8.25"}]
["PUPUN33333330000000414","12/2011",{"$f":"Calculation!B197","v":16608},{"$f":"Calculation!D197","v":1383},{"$f":"Calculation!E197","v":0},{"$f":"Calculation!F197","v":541},{"$f":"Calculation!J197","v":1527},"8.25","PUPUN33333330000000414#~#12/2011#~#16608#~#1383#~#0#~#541#~#1527#~#8.25"]
["PUPUN33333330000000414","01/2012",{"$f":"Calculation!B198","v":16233},{"$f":"Calculation!D198","v":1352},{"$f":"Calculation!E198","v":0},{"$f":"Calculation!F198","v":541},{"$f":"Calculation!J198","v":1501},"8.25","PUPUN33333330000000414#~#01/2012#~#16233#~#1352#~#0#~#541#~#1501#~#8.25"]
["PUPUN33333330000000414","02/2012",{"$f":"Calculation!B199","v":16483},{"$f":"Calculation!D199","v":1373},{"$f":"Calculation!E199","v":0},{"$f":"Calculation!F199","v":541},{"$f":"Calculation!J199","v":1528},"8.25","PUPUN33333330000000414#~#02/2012#~#16483#~#1373#~#0#~#541#~#1528#~#8.25"]
["PUPUN33333330000000414","03/2012",{"$f":"Calculation!B200","v":16375},{"$f":"Calculation!D200","v":1364},{"$f":"Calculation!E200","v":0},{"$f":"Calculation!F200","v":541},{"$f":"Calculation!J200","v":1602},"8.50","PUPUN33333330000000414#~#03/2012#~#16375#~#1364#~#0#~#541#~#1602#~#8.50"]
["PUPUN33333330000000414","04/2012",{"$f":"Calculation!B201","v":23583},{"$f":"Calculation!D201","v":1964},{"$f":"Calculation!E201","v":0},{"$f":"Calculation!F201","v":541},{"$f":"Calculation!J201","v":2208},"8.50","PUPUN33333330000000414#~#04/2012#~#23583#~#1964#~#0#~#541#~#2208#~#8.50"]
["PUPUN33333330000000414","05/2012",{"$f":"Calculation!B202","v":24475},{"$f":"Calculation!D202","v":2039},{"$f":"Calculation!E202","v":0},{"$f":"Calculation!F202","v":541},{"$f":"Calculation!J202","v":2293},"8.50","PUPUN33333330000000414#~#05/2012#~#24475#~#2039#~#0#~#541#~#2293#~#8.50"]
["PUPUN33333330000000414","06/2012",{"$f":"Calculation!B203","v":24892},{"$f":"Calculation!D203","v":2074},{"$f":"Calculation!E203","v":0},{"$f":"Calculation!F203","v":541},{"$f":"Calculation!J203","v":2339},"8.50","PUPUN33333330000000414#~#06/2012#~#24892#~#2074#~#0#~#541#~#2339#~#8.50"]
["PUPUN33333330000000414","07/2012",{"$f":"Calculation!B204","v":24933},{"$f":"Calculation!D204","v":2077},{"$f":"Calculation!E204","v":0},{"$f":"Calculation!F204","v":541},{"$f":"Calculation!J204","v":2353},"8.50","PUPUN33333330000000414#~#07/2012#~#24933#~#2077#~#0#~#541#~#2353#~#8.50"]
["PUPUN33333330000000414","08/2012",{"$f":"Calculation!B205","v":25250},{"$f":"Calculation!D205","v":2103},{"$f":"Calculation!E205","v":0},{"$f":"Calculation!F205","v":541},{"$f":"Calculation!J205","v":2390},"8.50","PUPUN33333330000000414#~#08/2012#~#25250#~#2103#~#0#~#541#~#2390#~#8.50"]
["PUPUN33333330000000414","09/2012",{"$f":"Calculation!B206","v":25675},{"$f":"Calculation!D206","v":2139},{"$f":"Calculation!E206","v":0},{"$f":"Calculation!F206","v":541},{"$f":"Calculation!J206","v":2437},"8.50","PUPUN33333330000000414#~#09/2012#~#25675#~#2139#~#0#~#541#~#2437#~#8.50"]
["PUPUN33333330000000414","10/2012",{"$f":"Calculation!B207","v":25908},{"$f":"Calculation!D207","v":2158},{"$f":"Calculation!E207","v":0},{"$f":"Calculation!F207","v":541},{"$f":"Calculation!J207","v":2467},"8.50","PUPUN33333330000000414#~#10/2012#~#25908#~#2158#~#0#~#541#~#2467#~#8.50"]
["PUPUN33333330000000414","11/2012",{"$f":"Calculation!B208","v":26258},{"$f":"Calculation!D208","v":2187},{"$f":"Calculation!E208","v":0},{"$f":"Calculation!F208","v":541},{"$f":"Calculation!J208","v":2508},"8.50","PUPUN33333330000000414#~#11/2012#~#26258#~#2187#~#0#~#541#~#2508#~#8.50"]
["PUPUN33333330000000414","12/2012",{"$f":"Calculation!B209","v":26508},{"$f":"Calculation!D209","v":2208},{"$f":"Calculation!E209","v":0},{"$f":"Calculation!F209","v":541},{"$f":"Calculation!J209","v":2540},"8.50","PUPUN33333330000000414#~#12/2012#~#26508#~#2208#~#0#~#541#~#2540#~#8.50"]
["PUPUN33333330000000414","01/2013",{"$f":"Calculation!B210","v":26625},{"$f":"Calculation!D210","v":2218},{"$f":"Calculation!E210","v":0},{"$f":"Calculation!F210","v":541},{"$f":"Calculation!J210","v":2562},"8.50","PUPUN33333330000000414#~#01/2013#~#26625#~#2218#~#0#~#541#~#2562#~#8.50"]
["PUPUN33333330000000414","02/2013",{"$f":"Calculation!B211","v":26750},{"$f":"Calculation!D211","v":2228},{"$f":"Calculation!E211","v":0},{"$f":"Calculation!F211","v":541},{"$f":"Calculation!J211","v":2584},"8.50","PUPUN33333330000000414#~#02/2013#~#26750#~#2228#~#0#~#541#~#2584#~#8.50"]
["PUPUN33333330000000414","03/2013",{"$f":"Calculation!B212","v":26858},{"$f":"Calculation!D212","v":2237},{"$f":"Calculation!E212","v":0},{"$f":"Calculation!F212","v":541},{"$f":"Calculation!J212","v":2705},"8.75","PUPUN33333330000000414#~#03/2013#~#26858#~#2237#~#0#~#541#~#2705#~#8.75"]
["PUPUN33333330000000414","04/2013",{"$f":"Calculation!B213","v":27117},{"$f":"Calculation!D213","v":2259},{"$f":"Calculation!E213","v":0},{"$f":"Calculation!F213","v":541},{"$f":"Calculation!J213","v":2739},"8.75","PUPUN33333330000000414#~#04/2013#~#27117#~#2259#~#0#~#541#~#2739#~#8.75"]
["PUPUN33333330000000414","05/2013",{"$f":"Calculation!B214","v":27808},{"$f":"Calculation!D214","v":2316},{"$f":"Calculation!E214","v":0},{"$f":"Calculation!F214","v":541},{"$f":"Calculation!J214","v":2809},"8.75","PUPUN33333330000000414#~#05/2013#~#27808#~#2316#~#0#~#541#~#2809#~#8.75"]
["PUPUN33333330000000414","06/2013",{"$f":"Calculation!B215","v":27925},{"$f":"Calculation!D215","v":2326},{"$f":"Calculation!E215","v":0},{"$f":"Calculation!F215","v":541},{"$f":"Calculation!J215","v":2831},"8.75","PUPUN33333330000000414#~#06/2013#~#27925#~#2326#~#0#~#541#~#2831#~#8.75"]
["PUPUN33333330000000414","07/2013",{"$f":"Calculation!B216","v":28183},{"$f":"Calculation!D216","v":2348},{"$f":"Calculation!E216","v":0},{"$f":"Calculation!F216","v":541},{"$f":"Calculation!J216","v":2867},"8.75","PUPUN33333330000000414#~#07/2013#~#28183#~#2348#~#0#~#541#~#2867#~#8.75"]
["PUPUN33333330000000414","08/2013",{"$f":"Calculation!B217","v":34625},{"$f":"Calculation!D217","v":2884},{"$f":"Calculation!E217","v":0},{"$f":"Calculation!F217","v":541},{"$f":"Calculation!J217","v":3416},"8.75","PUPUN33333330000000414#~#08/2013#~#34625#~#2884#~#0#~#541#~#3416#~#8.75"]
["PUPUN33333330000000414","09/2013",{"$f":"Calculation!B218","v":34983},{"$f":"Calculation!D218","v":2914},{"$f":"Calculation!E218","v":0},{"$f":"Calculation!F218","v":541},{"$f":"Calculation!J218","v":3463},"8.75","PUPUN33333330000000414#~#09/2013#~#34983#~#2914#~#0#~#541#~#3463#~#8.75"]
["PUPUN33333330000000414","10/2013",{"$f":"Calculation!B219","v":35358},{"$f":"Calculation!D219","v":2945},{"$f":"Calculation!E219","v":0},{"$f":"Calculation!F219","v":541},{"$f":"Calculation!J219","v":3511},"8.75","PUPUN33333330000000414#~#10/2013#~#35358#~#2945#~#0#~#541#~#3511#~#8.75"]
["PUPUN33333330000000414","11/2013",{"$f":"Calculation!B220","v":35358},{"$f":"Calculation!D220","v":2945},{"$f":"Calculation!E220","v":0},{"$f":"Calculation!F220","v":541},{"$f":"Calculation!J220","v":3529},"8.75","PUPUN33333330000000414#~#11/2013#~#35358#~#2945#~#0#~#541#~#3529#~#8.75"]
["PUPUN33333330000000414","12/2013",{"$f":"Calculation!B221","v":35758},{"$f":"Calculation!D221","v":2979},{"$f":"Calculation!E221","v":0},{"$f":"Calculation!F221","v":541},{"$f":"Calculation!J221","v":3580},"8.75","PUPUN33333330000000414#~#12/2013#~#35758#~#2979#~#0#~#541#~#3580#~#8.75"]
["PUPUN33333330000000414","01/2014",{"$f":"Calculation!B222","v":35975},{"$f":"Calculation!D222","v":2997},{"$f":"Calculation!E222","v":0},{"$f":"Calculation!F222","v":541},{"$f":"Calculation!J222","v":3616},"8.75","PUPUN33333330000000414#~#01/2014#~#35975#~#2997#~#0#~#541#~#3616#~#8.75"]
["PUPUN33333330000000414","02/2014",{"$f":"Calculation!B223","v":35175},{"$f":"Calculation!D223","v":2930},{"$f":"Calculation!E223","v":0},{"$f":"Calculation!F223","v":541},{"$f":"Calculation!J223","v":3567},"8.75","PUPUN33333330000000414#~#02/2014#~#35175#~#2930#~#0#~#541#~#3567#~#8.75"]
["PUPUN33333330000000414","03/2014",{"$f":"Calculation!B224","v":35208},{"$f":"Calculation!D224","v":2933},{"$f":"Calculation!E224","v":0},{"$f":"Calculation!F224","v":541},{"$f":"Calculation!J224","v":3682},"8.75","PUPUN33333330000000414#~#03/2014#~#35208#~#2933#~#0#~#541#~#3682#~#8.75"]
["PUPUN33333330000000414","04/2014",{"$f":"Calculation!B225","v":35425},{"$f":"Calculation!D225","v":2951},{"$f":"Calculation!E225","v":0},{"$f":"Calculation!F225","v":541},{"$f":"Calculation!J225","v":3718},"8.75","PUPUN33333330000000414#~#04/2014#~#35425#~#2951#~#0#~#541#~#3718#~#8.75"]
["PUPUN33333330000000414","05/2014",{"$f":"Calculation!B226","v":36208},{"$f":"Calculation!D226","v":3016},{"$f":"Calculation!E226","v":0},{"$f":"Calculation!F226","v":541},{"$f":"Calculation!J226","v":3800},"8.75","PUPUN33333330000000414#~#05/2014#~#36208#~#3016#~#0#~#541#~#3800#~#8.75"]
["PUPUN33333330000000414","06/2014",{"$f":"Calculation!B227","v":36525},{"$f":"Calculation!D227","v":3043},{"$f":"Calculation!E227","v":0},{"$f":"Calculation!F227","v":541},{"$f":"Calculation!J227","v":3845},"8.75","PUPUN33333330000000414#~#06/2014#~#36525#~#3043#~#0#~#541#~#3845#~#8.75"]
["PUPUN33333330000000414","07/2014",{"$f":"Calculation!B228","v":70575},{"$f":"Calculation!D228","v":5879},{"$f":"Calculation!E228","v":0},{"$f":"Calculation!F228","v":541},{"$f":"Calculation!J228","v":6700},"8.75","PUPUN33333330000000414#~#07/2014#~#70575#~#5879#~#0#~#541#~#6700#~#8.75"]
["PUPUN33333330000000414","08/2014",{"$f":"Calculation!B229","v":37450},{"$f":"Calculation!D229","v":3120},{"$f":"Calculation!E229","v":0},{"$f":"Calculation!F229","v":541},{"$f":"Calculation!J229","v":3980},"8.75","PUPUN33333330000000414#~#08/2014#~#37450#~#3120#~#0#~#541#~#3980#~#8.75"]
["PUPUN33333330000000414","09/2014",{"$f":"Calculation!B230","v":38075},{"$f":"Calculation!D230","v":3172},{"$f":"Calculation!E230","v":268},{"$f":"Calculation!F230","v":1250},{"$f":"Calculation!J230","v":3609},"8.75","PUPUN33333330000000414#~#09/2014#~#38075#~#3172#~#268#~#1250#~#3609#~#8.75"]
["PUPUN33333330000000414","10/2014",{"$f":"Calculation!B231","v":38100},{"$f":"Calculation!D231","v":3174},{"$f":"Calculation!E231","v":268},{"$f":"Calculation!F231","v":1250},{"$f":"Calculation!J231","v":3627},"8.75","PUPUN33333330000000414#~#10/2014#~#38100#~#3174#~#268#~#1250#~#3627#~#8.75"]
["PUPUN33333330000000414","11/2014",{"$f":"Calculation!B232","v":38125},{"$f":"Calculation!D232","v":3176},{"$f":"Calculation!E232","v":268},{"$f":"Calculation!F232","v":1250},{"$f":"Calculation!J232","v":3645},"8.75","PUPUN33333330000000414#~#11/2014#~#38125#~#3176#~#268#~#1250#~#3645#~#8.75"]
["PUPUN33333330000000414","12/2014",{"$f":"Calculation!B233","v":38075},{"$f":"Calculation!D233","v":3172},{"$f":"Calculation!E233","v":268},{"$f":"Calculation!F233","v":1250},{"$f":"Calculation!J233","v":3657},"8.75","PUPUN33333330000000414#~#12/2014#~#38075#~#3172#~#268#~#1250#~#3657#~#8.75"]
["PUPUN33333330000000414","01/2015",{"$f":"Calculation!B234","v":38067},{"$f":"Calculation!D234","v":3171},{"$f":"Calculation!E234","v":268},{"$f":"Calculation!F234","v":1250},{"$f":"Calculation!J234","v":3672},"8.75","PUPUN33333330000000414#~#01/2015#~#38067#~#3171#~#268#~#1250#~#3672#~#8.75"]
["PUPUN33333330000000414","02/2015",{"$f":"Calculation!B235","v":38700},{"$f":"Calculation!D235","v":3224},{"$f":"Calculation!E235","v":275},{"$f":"Calculation!F235","v":1250},{"$f":"Calculation!J235","v":3748},"8.75","PUPUN33333330000000414#~#02/2015#~#38700#~#3224#~#275#~#1250#~#3748#~#8.75"]
["PUPUN33333330000000414","03/2015",{"$f":"Calculation!B236","v":39017},{"$f":"Calculation!D236","v":3250},{"$f":"Calculation!E236","v":279},{"$f":"Calculation!F236","v":1250},{"$f":"Calculation!J236","v":3926},"8.80","PUPUN33333330000000414#~#03/2015#~#39017#~#3250#~#279#~#1250#~#3926#~#8.80"]
["PUPUN33333330000000414","04/2015",{"$f":"Calculation!B237","v":38800},{"$f":"Calculation!D237","v":3232},{"$f":"Calculation!E237","v":276},{"$f":"Calculation!F237","v":1250},{"$f":"Calculation!J237","v":3922},"8.80","PUPUN33333330000000414#~#04/2015#~#38800#~#3232#~#276#~#1250#~#3922#~#8.80"]
["PUPUN33333330000000414","05/2015",{"$f":"Calculation!B238","v":39325},{"$f":"Calculation!D238","v":3276},{"$f":"Calculation!E238","v":282},{"$f":"Calculation!F238","v":1250},{"$f":"Calculation!J238","v":3989},"8.80","PUPUN33333330000000414#~#05/2015#~#39325#~#3276#~#282#~#1250#~#3989#~#8.80"]
["PUPUN33333330000000414","06/2015",{"$f":"Calculation!B239","v":39850},{"$f":"Calculation!D239","v":3320},{"$f":"Calculation!E239","v":288},{"$f":"Calculation!F239","v":1250},{"$f":"Calculation!J239","v":4056},"8.80","PUPUN33333330000000414#~#06/2015#~#39850#~#3320#~#288#~#1250#~#4056#~#8.80"]
["PUPUN33333330000000414","07/2015",{"$f":"Calculation!B240","v":40008},{"$f":"Calculation!D240","v":3333},{"$f":"Calculation!E240","v":290},{"$f":"Calculation!F240","v":1250},{"$f":"Calculation!J240","v":4088},"8.80","PUPUN33333330000000414#~#07/2015#~#40008#~#3333#~#290#~#1250#~#4088#~#8.80"]
["PUPUN33333330000000414","08/2015",{"$f":"Calculation!B241","v":40242},{"$f":"Calculation!D241","v":3352},{"$f":"Calculation!E241","v":293},{"$f":"Calculation!F241","v":1250},{"$f":"Calculation!J241","v":4127},"8.80","PUPUN33333330000000414#~#08/2015#~#40242#~#3352#~#293#~#1250#~#4127#~#8.80"]
["PUPUN33333330000000414","09/2015",{"$f":"Calculation!B242","v":40365},{"$f":"Calculation!D242","v":3362},{"$f":"Calculation!E242","v":294},{"$f":"Calculation!F242","v":1250},{"$f":"Calculation!J242","v":4156},"8.80","PUPUN33333330000000414#~#09/2015#~#40365#~#3362#~#294#~#1250#~#4156#~#8.80"]
["PUPUN33333330000000414","10/2015",{"$f":"Calculation!B243","v":40603},{"$f":"Calculation!D243","v":3382},{"$f":"Calculation!E243","v":297},{"$f":"Calculation!F243","v":1250},{"$f":"Calculation!J243","v":4196},"8.80","PUPUN33333330000000414#~#10/2015#~#40603#~#3382#~#297#~#1250#~#4196#~#8.80"]
["PUPUN33333330000000414","11/2015",{"$f":"Calculation!B244","v":40841},{"$f":"Calculation!D244","v":3402},{"$f":"Calculation!E244","v":300},{"$f":"Calculation!F244","v":1250},{"$f":"Calculation!J244","v":4237},"8.80","PUPUN33333330000000414#~#11/2015#~#40841#~#3402#~#300#~#1250#~#4237#~#8.80"]
["PUPUN33333330000000414","12/2015",{"$f":"Calculation!B245","v":41079},{"$f":"Calculation!D245","v":3422},{"$f":"Calculation!E245","v":303},{"$f":"Calculation!F245","v":1250},{"$f":"Calculation!J245","v":4278},"8.80","PUPUN33333330000000414#~#12/2015#~#41079#~#3422#~#303#~#1250#~#4278#~#8.80"]
["PUPUN33333330000000414","01/2016",{"$f":"Calculation!B246","v":41317},{"$f":"Calculation!D246","v":3442},{"$f":"Calculation!E246","v":305},{"$f":"Calculation!F246","v":1250},{"$f":"Calculation!J246","v":4318},"8.80","PUPUN33333330000000414#~#01/2016#~#41317#~#3442#~#305#~#1250#~#4318#~#8.80"]
["PUPUN33333330000000414","02/2016",{"$f":"Calculation!B247","v":41555},{"$f":"Calculation!D247","v":3462},{"$f":"Calculation!E247","v":308},{"$f":"Calculation!F247","v":1250},{"$f":"Calculation!J247","v":4360},"8.80","PUPUN33333330000000414#~#02/2016#~#41555#~#3462#~#308#~#1250#~#4360#~#8.80"]
["PUPUN33333330000000414","03/2016",{"$f":"Calculation!B248","v":41794},{"$f":"Calculation!D248","v":3481},{"$f":"Calculation!E248","v":311},{"$f":"Calculation!F248","v":1250},{"$f":"Calculation!J248","v":4519},"8.65","PUPUN33333330000000414#~#03/2016#~#41794#~#3481#~#311#~#1250#~#4519#~#8.65"]
["PUPUN33333330000000414","04/2016",{"$f":"Calculation!B249","v":42032},{"$f":"Calculation!D249","v":3501},{"$f":"Calculation!E249","v":314},{"$f":"Calculation!F249","v":1250},{"$f":"Calculation!J249","v":4561},"8.65","PUPUN33333330000000414#~#04/2016#~#42032#~#3501#~#314#~#1250#~#4561#~#8.65"]
["PUPUN33333330000000414","05/2016",{"$f":"Calculation!B250","v":42270},{"$f":"Calculation!D250","v":3521},{"$f":"Calculation!E250","v":316},{"$f":"Calculation!F250","v":1250},{"$f":"Calculation!J250","v":4601},"8.65","PUPUN33333330000000414#~#05/2016#~#42270#~#3521#~#316#~#1250#~#4601#~#8.65"]
["PUPUN33333330000000414","06/2016",{"$f":"Calculation!B251","v":42508},{"$f":"Calculation!D251","v":3541},{"$f":"Calculation!E251","v":319},{"$f":"Calculation!F251","v":1250},{"$f":"Calculation!J251","v":4643},"8.65","PUPUN33333330000000414#~#06/2016#~#42508#~#3541#~#319#~#1250#~#4643#~#8.65"]
["PUPUN33333330000000414","07/2016",{"$f":"Calculation!B252","v":42746},{"$f":"Calculation!D252","v":3561},{"$f":"Calculation!E252","v":322},{"$f":"Calculation!F252","v":1250},{"$f":"Calculation!J252","v":4685},"8.65","PUPUN33333330000000414#~#07/2016#~#42746#~#3561#~#322#~#1250#~#4685#~#8.65"]
["PUPUN33333330000000414","08/2016",{"$f":"Calculation!B253","v":42984},{"$f":"Calculation!D253","v":3581},{"$f":"Calculation!E253","v":325},{"$f":"Calculation!F253","v":1250},{"$f":"Calculation!J253","v":4726},"8.65","PUPUN33333330000000414#~#08/2016#~#42984#~#3581#~#325#~#1250#~#4726#~#8.65"]
["PUPUN33333330000000414","09/2016",{"$f":"Calculation!B254","v":43222},{"$f":"Calculation!D254","v":3600},{"$f":"Calculation!E254","v":327},{"$f":"Calculation!F254","v":1250},{"$f":"Calculation!J254","v":4767},"8.65","PUPUN33333330000000414#~#09/2016#~#43222#~#3600#~#327#~#1250#~#4767#~#8.65"]
["PUPUN33333330000000414","10/2016",{"$f":"Calculation!B255","v":43460},{"$f":"Calculation!D255","v":3620},{"$f":"Calculation!E255","v":330},{"$f":"Calculation!F255","v":1250},{"$f":"Calculation!J255","v":4809},"8.65","PUPUN33333330000000414#~#10/2016#~#43460#~#3620#~#330#~#1250#~#4809#~#8.65"]
["PUPUN33333330000000414","11/2016",{"$f":"Calculation!B256","v":43698},{"$f":"Calculation!D256","v":3640},{"$f":"Calculation!E256","v":333},{"$f":"Calculation!F256","v":1250},{"$f":"Calculation!J256","v":4851},"8.65","PUPUN33333330000000414#~#11/2016#~#43698#~#3640#~#333#~#1250#~#4851#~#8.65"]
["PUPUN33333330000000414","12/2016",{"$f":"Calculation!B257","v":43936},{"$f":"Calculation!D257","v":3660},{"$f":"Calculation!E257","v":336},{"$f":"Calculation!F257","v":1250},{"$f":"Calculation!J257","v":4894},"8.65","PUPUN33333330000000414#~#12/2016#~#43936#~#3660#~#336#~#1250#~#4894#~#8.65"]
["PUPUN33333330000000414","01/2017",{"$f":"Calculation!B258","v":44174},{"$f":"Calculation!D258","v":3680},{"$f":"Calculation!E258","v":338},{"$f":"Calculation!F258","v":1250},{"$f":"Calculation!J258","v":4936},"8.65","PUPUN33333330000000414#~#01/2017#~#44174#~#3680#~#338#~#1250#~#4936#~#8.65"]
["PUPUN33333330000000414","02/2017",{"$f":"Calculation!B259","v":44412},{"$f":"Calculation!D259","v":3700},{"$f":"Calculation!E259","v":341},{"$f":"Calculation!F259","v":1250},{"$f":"Calculation!J259","v":4979},"8.65","PUPUN33333330000000414#~#02/2017#~#44412#~#3700#~#341#~#1250#~#4979#~#8.65"]
["PUPUN33333330000000414","03/2017",{"$f":"Calculation!B260","v":44650},{"$f":"Calculation!D260","v":3719},{"$f":"Calculation!E260","v":344},{"$f":"Calculation!F260","v":1250},{"$f":"Calculation!J260","v":5173},"8.55",{"$f":"CONCATENATE(A258,\"#~#\",B258,\"#~#\",C258,\"#~#\",D258,\"#~#\",E258,\"#~#\",F258,\"#~#\",G258,\"#~#\",H258)","v":"PUPUN33333330000000414#~#03/2017#~#44650#~#3719#~#344#~#1250#~#5173#~#8.55"}]
["PUPUN33333330000000414","04/2017",{"$f":"Calculation!B261","v":44888},{"$f":"Calculation!D261","v":3739},{"$f":"Calculation!E261","v":347},{"$f":"Calculation!F261","v":1250},{"$f":"Calculation!J261","v":5216},"8.55","PUPUN33333330000000414#~#04/2017#~#44888#~#3739#~#347#~#1250#~#5216#~#8.55"]
["PUPUN33333330000000414","05/2017",{"$f":"Calculation!B262","v":45126},{"$f":"Calculation!D262","v":3759},{"$f":"Calculation!E262","v":349},{"$f":"Calculation!F262","v":1250},{"$f":"Calculation!J262","v":5259},"8.55","PUPUN33333330000000414#~#05/2017#~#45126#~#3759#~#349#~#1250#~#5259#~#8.55"]
["PUPUN33333330000000414","06/2017",{"$f":"Calculation!B263","v":45364},{"$f":"Calculation!D263","v":3779},{"$f":"Calculation!E263","v":352},{"$f":"Calculation!F263","v":1250},{"$f":"Calculation!J263","v":5302},"8.55","PUPUN33333330000000414#~#06/2017#~#45364#~#3779#~#352#~#1250#~#5302#~#8.55"]
["PUPUN33333330000000414","07/2017",{"$f":"Calculation!B264","v":45602},{"$f":"Calculation!D264","v":3799},{"$f":"Calculation!E264","v":355},{"$f":"Calculation!F264","v":1250},{"$f":"Calculation!J264","v":5345},"8.55","PUPUN33333330000000414#~#07/2017#~#45602#~#3799#~#355#~#1250#~#5345#~#8.55"]
["PUPUN33333330000000414","08/2017",{"$f":"Calculation!B265","v":45840},{"$f":"Calculation!D265","v":3818},{"$f":"Calculation!E265","v":358},{"$f":"Calculation!F265","v":1250},{"$f":"Calculation!J265","v":5388},"8.55","PUPUN33333330000000414#~#08/2017#~#45840#~#3818#~#358#~#1250#~#5388#~#8.55"]
["PUPUN33333330000000414","09/2017",{"$f":"Calculation!B266","v":46078},{"$f":"Calculation!D266","v":3838},{"$f":"Calculation!E266","v":361},{"$f":"Calculation!F266","v":1250},{"$f":"Calculation!J266","v":5432},"8.55","PUPUN33333330000000414#~#09/2017#~#46078#~#3838#~#361#~#1250#~#5432#~#8.55"]
["PUPUN33333330000000414","10/2017",{"$f":"Calculation!B267","v":46316},{"$f":"Calculation!D267","v":3858},{"$f":"Calculation!E267","v":363},{"$f":"Calculation!F267","v":1250},{"$f":"Calculation!J267","v":5475},"8.55","PUPUN33333330000000414#~#10/2017#~#46316#~#3858#~#363#~#1250#~#5475#~#8.55"]
["PUPUN33333330000000414","11/2017",{"$f":"Calculation!B268","v":46554},{"$f":"Calculation!D268","v":3878},{"$f":"Calculation!E268","v":366},{"$f":"Calculation!F268","v":1250},{"$f":"Calculation!J268","v":5519},"8.55","PUPUN33333330000000414#~#11/2017#~#46554#~#3878#~#366#~#1250#~#5519#~#8.55"]
["PUPUN33333330000000414","12/2017",{"$f":"Calculation!B269","v":46792},{"$f":"Calculation!D269","v":3898},{"$f":"Calculation!E269","v":369},{"$f":"Calculation!F269","v":1250},{"$f":"Calculation!J269","v":5563},"8.55","PUPUN33333330000000414#~#12/2017#~#46792#~#3898#~#369#~#1250#~#5563#~#8.55"]
["PUPUN33333330000000414","01/2018",{"$f":"Calculation!B270","v":47030},{"$f":"Calculation!D270","v":3918},{"$f":"Calculation!E270","v":372},{"$f":"Calculation!F270","v":1250},{"$f":"Calculation!J270","v":5608},"8.55","PUPUN33333330000000414#~#01/2018#~#47030#~#3918#~#372#~#1250#~#5608#~#8.55"]
["PUPUN33333330000000414","02/2018",{"$f":"Calculation!B271","v":47268},{"$f":"Calculation!D271","v":3937},{"$f":"Calculation!E271","v":374},{"$f":"Calculation!F271","v":1250},{"$f":"Calculation!J271","v":5651},"8.55","PUPUN33333330000000414#~#02/2018#~#47268#~#3937#~#374#~#1250#~#5651#~#8.55"]
["PUPUN33333330000000414","03/2018",{"$f":"Calculation!B272","v":47506},{"$f":"Calculation!D272","v":3957},{"$f":"Calculation!E272","v":377},{"$f":"Calculation!F272","v":1250},{"$f":"Calculation!J272","v":5940},"8.65","PUPUN33333330000000414#~#03/2018#~#47506#~#3957#~#377#~#1250#~#5940#~#8.65"]
["PUPUN33333330000000414","04/2018",{"$f":"Calculation!B273","v":47744},{"$f":"Calculation!D273","v":3977},{"$f":"Calculation!E273","v":380},{"$f":"Calculation!F273","v":1250},{"$f":"Calculation!J273","v":5985},"8.65","PUPUN33333330000000414#~#04/2018#~#47744#~#3977#~#380#~#1250#~#5985#~#8.65"]
["PUPUN33333330000000414","05/2018",{"$f":"Calculation!B274","v":47982},{"$f":"Calculation!D274","v":3997},{"$f":"Calculation!E274","v":383},{"$f":"Calculation!F274","v":1250},{"$f":"Calculation!J274","v":6031},"8.65","PUPUN33333330000000414#~#05/2018#~#47982#~#3997#~#383#~#1250#~#6031#~#8.65"]
["PUPUN33333330000000414","06/2018",{"$f":"Calculation!B275","v":48220},{"$f":"Calculation!D275","v":4017},{"$f":"Calculation!E275","v":385},{"$f":"Calculation!F275","v":1250},{"$f":"Calculation!J275","v":6075},"8.65","PUPUN33333330000000414#~#06/2018#~#48220#~#4017#~#385#~#1250#~#6075#~#8.65"]
["PUPUN33333330000000414","07/2018",{"$f":"Calculation!B276","v":48458},{"$f":"Calculation!D276","v":4037},{"$f":"Calculation!E276","v":388},{"$f":"Calculation!F276","v":1250},{"$f":"Calculation!J276","v":6121},"8.65","PUPUN33333330000000414#~#07/2018#~#48458#~#4037#~#388#~#1250#~#6121#~#8.65"]
["PUPUN33333330000000414","08/2018",{"$f":"Calculation!B277","v":48696},{"$f":"Calculation!D277","v":4056},{"$f":"Calculation!E277","v":391},{"$f":"Calculation!F277","v":1250},{"$f":"Calculation!J277","v":6166},"8.65","PUPUN33333330000000414#~#08/2018#~#48696#~#4056#~#391#~#1250#~#6166#~#8.65"]
["PUPUN33333330000000414","09/2018",{"$f":"Calculation!B278","v":48934},{"$f":"Calculation!D278","v":4076},{"$f":"Calculation!E278","v":394},{"$f":"Calculation!F278","v":1250},{"$f":"Calculation!J278","v":6212},"8.65","PUPUN33333330000000414#~#09/2018#~#48934#~#4076#~#394#~#1250#~#6212#~#8.65"]
["PUPUN33333330000000414","10/2018",{"$f":"Calculation!B279","v":49172},{"$f":"Calculation!D279","v":4096},{"$f":"Calculation!E279","v":396},{"$f":"Calculation!F279","v":1250},{"$f":"Calculation!J279","v":6257},"8.65","PUPUN33333330000000414#~#10/2018#~#49172#~#4096#~#396#~#1250#~#6257#~#8.65"]
["PUPUN33333330000000414","11/2018",{"$f":"Calculation!B280","v":49410},{"$f":"Calculation!D280","v":4116},{"$f":"Calculation!E280","v":399},{"$f":"Calculation!F280","v":1250},{"$f":"Calculation!J280","v":6303},"8.65","PUPUN33333330000000414#~#11/2018#~#49410#~#4116#~#399#~#1250#~#6303#~#8.65"]
["PUPUN33333330000000414","12/2018",{"$f":"Calculation!B281","v":49648},{"$f":"Calculation!D281","v":4136},{"$f":"Calculation!E281","v":402},{"$f":"Calculation!F281","v":1250},{"$f":"Calculation!J281","v":6350},"8.65","PUPUN33333330000000414#~#12/2018#~#49648#~#4136#~#402#~#1250#~#6350#~#8.65"]
["PUPUN33333330000000414","01/2019",{"$f":"Calculation!B282","v":49886},{"$f":"Calculation!D282","v":4156},{"$f":"Calculation!E282","v":405},{"$f":"Calculation!F282","v":1250},{"$f":"Calculation!J282","v":6397},"8.65","PUPUN33333330000000414#~#01/2019#~#49886#~#4156#~#405#~#1250#~#6397#~#8.65"]
["PUPUN33333330000000414","02/2019",{"$f":"Calculation!B283","v":50124},{"$f":"Calculation!D283","v":4175},{"$f":"Calculation!E283","v":407},{"$f":"Calculation!F283","v":1250},{"$f":"Calculation!J283","v":6441},"8.65","PUPUN33333330000000414#~#02/2019#~#50124#~#4175#~#407#~#1250#~#6441#~#8.65"]
["PUPUN33333330000000414","03/2019",{"$f":"Calculation!B284","v":50362},{"$f":"Calculation!D284","v":4195},{"$f":"Calculation!E284","v":410},{"$f":"Calculation!F284","v":1250},{"$f":"Calculation!J284","v":6688},"8.50","PUPUN33333330000000414#~#03/2019#~#50362#~#4195#~#410#~#1250#~#6688#~#8.50"]
["PUPUN33333330000000414","04/2019",{"$f":"Calculation!B285","v":50601},{"$f":"Calculation!D285","v":4215},{"$f":"Calculation!E285","v":413},{"$f":"Calculation!F285","v":1250},{"$f":"Calculation!J285","v":6734},"8.50","PUPUN33333330000000414#~#04/2019#~#50601#~#4215#~#413#~#1250#~#6734#~#8.50"]
["PUPUN33333330000000414","05/2019",{"$f":"Calculation!B286","v":50839},{"$f":"Calculation!D286","v":4235},{"$f":"Calculation!E286","v":416},{"$f":"Calculation!F286","v":1250},{"$f":"Calculation!J286","v":6781},"8.50","PUPUN33333330000000414#~#05/2019#~#50839#~#4235#~#416#~#1250#~#6781#~#8.50"]
["PUPUN33333330000000414","06/2019",{"$f":"Calculation!B287","v":51077},{"$f":"Calculation!D287","v":4255},{"$f":"Calculation!E287","v":418},{"$f":"Calculation!F287","v":1250},{"$f":"Calculation!J287","v":6827},"8.50","PUPUN33333330000000414#~#06/2019#~#51077#~#4255#~#418#~#1250#~#6827#~#8.50"]
["PUPUN33333330000000414","07/2019",{"$f":"Calculation!B288","v":51315},{"$f":"Calculation!D288","v":4275},{"$f":"Calculation!E288","v":421},{"$f":"Calculation!F288","v":1250},{"$f":"Calculation!J288","v":6875},"8.50","PUPUN33333330000000414#~#07/2019#~#51315#~#4275#~#421#~#1250#~#6875#~#8.50"]
["PUPUN33333330000000414","08/2019",{"$f":"Calculation!B289","v":51553},{"$f":"Calculation!D289","v":4294},{"$f":"Calculation!E289","v":424},{"$f":"Calculation!F289","v":1250},{"$f":"Calculation!J289","v":6921},"8.50","PUPUN33333330000000414#~#08/2019#~#51553#~#4294#~#424#~#1250#~#6921#~#8.50"]
["PUPUN33333330000000414","09/2019",{"$f":"Calculation!B290","v":51791},{"$f":"Calculation!D290","v":4314},{"$f":"Calculation!E290","v":427},{"$f":"Calculation!F290","v":1250},{"$f":"Calculation!J290","v":6969},"8.50","PUPUN33333330000000414#~#09/2019#~#51791#~#4314#~#427#~#1250#~#6969#~#8.50"]
["PUPUN33333330000000414","10/2019",{"$f":"Calculation!B291","v":52029},{"$f":"Calculation!D291","v":4334},{"$f":"Calculation!E291","v":430},{"$f":"Calculation!F291","v":1250},{"$f":"Calculation!J291","v":7016},"8.50","PUPUN33333330000000414#~#10/2019#~#52029#~#4334#~#430#~#1250#~#7016#~#8.50"]
["PUPUN33333330000000414","11/2019",{"$f":"Calculation!B292","v":52267},{"$f":"Calculation!D292","v":4354},{"$f":"Calculation!E292","v":432},{"$f":"Calculation!F292","v":1250},{"$f":"Calculation!J292","v":7063},"8.50","PUPUN33333330000000414#~#11/2019#~#52267#~#4354#~#432#~#1250#~#7063#~#8.50"]
["PUPUN33333330000000414","12/2019",{"$f":"Calculation!B293","v":52505},{"$f":"Calculation!D293","v":4374},{"$f":"Calculation!E293","v":435},{"$f":"Calculation!F293","v":1250},{"$f":"Calculation!J293","v":7111},"8.50","PUPUN33333330000000414#~#12/2019#~#52505#~#4374#~#435#~#1250#~#7111#~#8.50"]
["PUPUN33333330000000414","01/2020",{"$f":"Calculation!B294","v":52743},{"$f":"Calculation!D294","v":4393},{"$f":"Calculation!E294","v":438},{"$f":"Calculation!F294","v":1250},{"$f":"Calculation!J294","v":7158},"8.50","PUPUN33333330000000414#~#01/2020#~#52743#~#4393#~#438#~#1250#~#7158#~#8.50"]
["PUPUN33333330000000414","02/2020",{"$f":"Calculation!B295","v":52981},{"$f":"Calculation!D295","v":4413},{"$f":"Calculation!E295","v":441},{"$f":"Calculation!F295","v":1250},{"$f":"Calculation!J295","v":7207},"8.50","PUPUN33333330000000414#~#02/2020#~#52981#~#4413#~#441#~#1250#~#7207#~#8.50"]
["PUPUN33333330000000414","03/2020",{"$f":"Calculation!B296","v":53219},{"$f":"Calculation!D296","v":4433},{"$f":"Calculation!E296","v":443},{"$f":"Calculation!F296","v":1250},{"$f":"Calculation!J296","v":7549},"8.50","PUPUN33333330000000414#~#03/2020#~#53219#~#4433#~#443#~#1250#~#7549#~#8.50"]
["PUPUN33333330000000414","04/2020",{"$f":"Calculation!B297","v":53457},{"$f":"Calculation!D297","v":4453},{"$f":"Calculation!E297","v":446},{"$f":"Calculation!F297","v":1250},{"$f":"Calculation!J297","v":7598},"8.50","PUPUN33333330000000414#~#04/2020#~#53457#~#4453#~#446#~#1250#~#7598#~#8.50"]
["PUPUN33333330000000414","05/2020",{"$f":"Calculation!B298","v":53695},{"$f":"Calculation!D298","v":4473},{"$f":"Calculation!E298","v":449},{"$f":"Calculation!F298","v":1250},{"$f":"Calculation!J298","v":7646},"8.50","PUPUN33333330000000414#~#05/2020#~#53695#~#4473#~#449#~#1250#~#7646#~#8.50"]
["PUPUN33333330000000414","06/2020",{"$f":"Calculation!B299","v":53933},{"$f":"Calculation!D299","v":4493},{"$f":"Calculation!E299","v":452},{"$f":"Calculation!F299","v":1250},{"$f":"Calculation!J299","v":7695},"8.50","PUPUN33333330000000414#~#06/2020#~#53933#~#4493#~#452#~#1250#~#7695#~#8.50"]
["PUPUN33333330000000414","07/2020",{"$f":"Calculation!B300","v":54171},{"$f":"Calculation!D300","v":4512},{"$f":"Calculation!E300","v":454},{"$f":"Calculation!F300","v":1250},{"$f":"Calculation!J300","v":7743},"8.50","PUPUN33333330000000414#~#07/2020#~#54171#~#4512#~#454#~#1250#~#7743#~#8.50"]
["PUPUN33333330000000414","08/2020",{"$f":"Calculation!B301","v":54409},{"$f":"Calculation!D301","v":4532},{"$f":"Calculation!E301","v":457},{"$f":"Calculation!F301","v":1250},{"$f":"Calculation!J301","v":7792},"8.50","PUPUN33333330000000414#~#08/2020#~#54409#~#4532#~#457#~#1250#~#7792#~#8.50"]
["PUPUN33333330000000414","09/2020",{"$f":"Calculation!B302","v":54647},{"$f":"Calculation!D302","v":4552},{"$f":"Calculation!E302","v":460},{"$f":"Calculation!F302","v":1250},{"$f":"Calculation!J302","v":7841},"8.50","PUPUN33333330000000414#~#09/2020#~#54647#~#4552#~#460#~#1250#~#7841#~#8.50"]
["PUPUN33333330000000414","10/2020",{"$f":"Calculation!B303","v":54885},{"$f":"Calculation!D303","v":4572},{"$f":"Calculation!E303","v":463},{"$f":"Calculation!F303","v":1250},{"$f":"Calculation!J303","v":7891},"8.50","PUPUN33333330000000414#~#10/2020#~#54885#~#4572#~#463#~#1250#~#7891#~#8.50"]
["PUPUN33333330000000414","11/2020",{"$f":"Calculation!B304","v":55123},{"$f":"Calculation!D304","v":4592},{"$f":"Calculation!E304","v":465},{"$f":"Calculation!F304","v":1250},{"$f":"Calculation!J304","v":7940},"8.50","PUPUN33333330000000414#~#11/2020#~#55123#~#4592#~#465#~#1250#~#7940#~#8.50"]
["PUPUN33333330000000414","12/2020",{"$f":"Calculation!B305","v":55361},{"$f":"Calculation!D305","v":4612},{"$f":"Calculation!E305","v":468},{"$f":"Calculation!F305","v":1250},{"$f":"Calculation!J305","v":7990},"8.50","PUPUN33333330000000414#~#12/2020#~#55361#~#4612#~#468#~#1250#~#7990#~#8.50"]
["PUPUN33333330000000414","01/2021",{"$f":"Calculation!B306","v":55599},{"$f":"Calculation!D306","v":4631},{"$f":"Calculation!E306","v":471},{"$f":"Calculation!F306","v":1250},{"$f":"Calculation!J306","v":8039},"8.50","PUPUN33333330000000414#~#01/2021#~#55599#~#4631#~#471#~#1250#~#8039#~#8.50"]
["PUPUN33333330000000414","02/2021",{"$f":"Calculation!B307","v":55837},{"$f":"Calculation!D307","v":4651},{"$f":"Calculation!E307","v":474},{"$f":"Calculation!F307","v":1250},{"$f":"Calculation!J307","v":8089},"8.50","PUPUN33333330000000414#~#02/2021#~#55837#~#4651#~#474#~#1250#~#8089#~#8.50"]
["PUPUN33333330000000414","03/2021",{"$f":"Calculation!B308","v":56075},{"$f":"Calculation!D308","v":4671},{"$f":"Calculation!E308","v":476},{"$f":"Calculation!F308","v":1250},{"$f":"Calculation!J308","v":8269},"8.10","PUPUN33333330000000414#~#03/2021#~#56075#~#4671#~#476#~#1250#~#8269#~#8.10"]
["PUPUN33333330000000414","04/2021",{"$f":"Calculation!B309","v":56313},{"$f":"Calculation!D309","v":4691},{"$f":"Calculation!E309","v":479},{"$f":"Calculation!F309","v":1250},{"$f":"Calculation!J309","v":8318},"8.10","PUPUN33333330000000414#~#04/2021#~#56313#~#4691#~#479#~#1250#~#8318#~#8.10"]
["PUPUN33333330000000414","05/2021",{"$f":"Calculation!B310","v":56551},{"$f":"Calculation!D310","v":4711},{"$f":"Calculation!E310","v":482},{"$f":"Calculation!F310","v":1250},{"$f":"Calculation!J310","v":8367},"8.10","PUPUN33333330000000414#~#05/2021#~#56551#~#4711#~#482#~#1250#~#8367#~#8.10"]
["PUPUN33333330000000414","06/2021",{"$f":"Calculation!B311","v":56789},{"$f":"Calculation!D311","v":4731},{"$f":"Calculation!E311","v":485},{"$f":"Calculation!F311","v":1250},{"$f":"Calculation!J311","v":8417},"8.10","PUPUN33333330000000414#~#06/2021#~#56789#~#4731#~#485#~#1250#~#8417#~#8.10"]
["PUPUN33333330000000414","07/2021",{"$f":"Calculation!B312","v":57027},{"$f":"Calculation!D312","v":4750},{"$f":"Calculation!E312","v":488},{"$f":"Calculation!F312","v":1250},{"$f":"Calculation!J312","v":8466},"8.10","PUPUN33333330000000414#~#07/2021#~#57027#~#4750#~#488#~#1250#~#8466#~#8.10"]
["PUPUN33333330000000414","08/2021",{"$f":"Calculation!B313","v":57265},{"$f":"Calculation!D313","v":4770},{"$f":"Calculation!E313","v":490},{"$f":"Calculation!F313","v":1250},{"$f":"Calculation!J313","v":8515},"8.10","PUPUN33333330000000414#~#08/2021#~#57265#~#4770#~#490#~#1250#~#8515#~#8.10"]
["PUPUN33333330000000414","09/2021",{"$f":"Calculation!B314","v":57503},{"$f":"Calculation!D314","v":4790},{"$f":"Calculation!E314","v":493},{"$f":"Calculation!F314","v":1250},{"$f":"Calculation!J314","v":8565},"8.10","PUPUN33333330000000414#~#09/2021#~#57503#~#4790#~#493#~#1250#~#8565#~#8.10"]
["PUPUN33333330000000414","10/2021",{"$f":"Calculation!B315","v":57741},{"$f":"Calculation!D315","v":4810},{"$f":"Calculation!E315","v":496},{"$f":"Calculation!F315","v":1250},{"$f":"Calculation!J315","v":8615},"8.10","PUPUN33333330000000414#~#10/2021#~#57741#~#4810#~#496#~#1250#~#8615#~#8.10"]
["PUPUN33333330000000414","11/2021",{"$f":"Calculation!B316","v":57979},{"$f":"Calculation!D316","v":4830},{"$f":"Calculation!E316","v":499},{"$f":"Calculation!F316","v":1250},{"$f":"Calculation!J316","v":8665},"8.10","PUPUN33333330000000414#~#11/2021#~#57979#~#4830#~#499#~#1250#~#8665#~#8.10"]
["PUPUN33333330000000414","12/2021",{"$f":"Calculation!B317","v":58217},{"$f":"Calculation!D317","v":4849},{"$f":"Calculation!E317","v":501},{"$f":"Calculation!F317","v":1250},{"$f":"Calculation!J317","v":8714},"8.10","PUPUN33333330000000414#~#12/2021#~#58217#~#4849#~#501#~#1250#~#8714#~#8.10"]
["PUPUN33333330000000414","01/2022",{"$f":"Calculation!B318","v":58455},{"$f":"Calculation!D318","v":4869},{"$f":"Calculation!E318","v":504},{"$f":"Calculation!F318","v":1250},{"$f":"Calculation!J318","v":8765},"8.10","PUPUN33333330000000414#~#01/2022#~#58455#~#4869#~#504#~#1250#~#8765#~#8.10"]
["PUPUN33333330000000414","02/2022",{"$f":"Calculation!B319","v":58693},{"$f":"Calculation!D319","v":4889},{"$f":"Calculation!E319","v":507},{"$f":"Calculation!F319","v":1250},{"$f":"Calculation!J319","v":8815},"8.10","PUPUN33333330000000414#~#02/2022#~#58693#~#4889#~#507#~#1250#~#8815#~#8.10"]
["PUPUN33333330000000414","03/2022",{"$f":"Calculation!B320","v":58931},{"$f":"Calculation!D320","v":4909},{"$f":"Calculation!E320","v":510},{"$f":"Calculation!F320","v":1250},{"$f":"Calculation!J320","v":9232},"8.10","PUPUN33333330000000414#~#03/2022#~#58931#~#4909#~#510#~#1250#~#9232#~#8.10"]
["PUPUN33333330000000414","04/2022",{"$f":"Calculation!B321","v":59170},{"$f":"Calculation!D321","v":4929},{"$f":"Calculation!E321","v":512},{"$f":"Calculation!F321","v":1250},{"$f":"Calculation!J321","v":9283},"8.10","PUPUN33333330000000414#~#04/2022#~#59170#~#4929#~#512#~#1250#~#9283#~#8.10"]
["PUPUN33333330000000414","05/2022",{"$f":"Calculation!B322","v":59408},{"$f":"Calculation!D322","v":4949},{"$f":"Calculation!E322","v":515},{"$f":"Calculation!F322","v":1250},{"$f":"Calculation!J322","v":9334},"8.10","PUPUN33333330000000414#~#05/2022#~#59408#~#4949#~#515#~#1250#~#9334#~#8.10"]
["PUPUN33333330000000414","06/2022",{"$f":"Calculation!B323","v":59646},{"$f":"Calculation!D323","v":4969},{"$f":"Calculation!E323","v":518},{"$f":"Calculation!F323","v":1250},{"$f":"Calculation!J323","v":9385},"8.10","PUPUN33333330000000414#~#06/2022#~#59646#~#4969#~#518#~#1250#~#9385#~#8.10"]
["PUPUN33333330000000414","07/2022",{"$f":"Calculation!B324","v":59884},{"$f":"Calculation!D324","v":4988},{"$f":"Calculation!E324","v":521},{"$f":"Calculation!F324","v":1250},{"$f":"Calculation!J324","v":9436},"8.10",{"$f":"CONCATENATE(A322,\"#~#\",B322,\"#~#\",C322,\"#~#\",D322,\"#~#\",E322,\"#~#\",F322,\"#~#\",G322,\"#~#\",H322)","v":"PUPUN33333330000000414#~#07/2022#~#59884#~#4988#~#521#~#1250#~#9436#~#8.10"}]
["PUPUN33333330000000414","08/2022",{"$f":"Calculation!B325","v":60122},{"$f":"Calculation!D325","v":5008},{"$f":"Calculation!E325","v":523},{"$f":"Calculation!F325","v":1250},{"$f":"Calculation!J325","v":9487},"8.10","PUPUN33333330000000414#~#08/2022#~#60122#~#5008#~#523#~#1250#~#9487#~#8.10"]
["PUPUN33333330000000414","09/2022",{"$f":"Calculation!B326","v":60360},{"$f":"Calculation!D326","v":5028},{"$f":"Calculation!E326","v":526},{"$f":"Calculation!F326","v":1250},{"$f":"Calculation!J326","v":9539},"8.10","PUPUN33333330000000414#~#09/2022#~#60360#~#5028#~#526#~#1250#~#9539#~#8.10"]
["PUPUN33333330000000414","10/2022",{"$f":"Calculation!B327","v":60598},{"$f":"Calculation!D327","v":5048},{"$f":"Calculation!E327","v":529},{"$f":"Calculation!F327","v":1250},{"$f":"Calculation!J327","v":9591},"8.10","PUPUN33333330000000414#~#10/2022#~#60598#~#5048#~#529#~#1250#~#9591#~#8.10"]
["PUPUN33333330000000414","11/2022",{"$f":"Calculation!B328","v":60836},{"$f":"Calculation!D328","v":5068},{"$f":"Calculation!E328","v":532},{"$f":"Calculation!F328","v":1250},{"$f":"Calculation!J328","v":9643},"8.10","PUPUN33333330000000414#~#11/2022#~#60836#~#5068#~#532#~#1250#~#9643#~#8.10"]
["PUPUN33333330000000414","12/2022",{"$f":"Calculation!B329","v":61074},{"$f":"Calculation!D329","v":5087},{"$f":"Calculation!E329","v":534},{"$f":"Calculation!F329","v":1250},{"$f":"Calculation!J329","v":9693},"8.10","PUPUN33333330000000414#~#12/2022#~#61074#~#5087#~#534#~#1250#~#9693#~#8.10"]
["PUPUN33333330000000414","01/2023",{"$f":"Calculation!B330","v":61312},{"$f":"Calculation!D330","v":5107},{"$f":"Calculation!E330","v":537},{"$f":"Calculation!F330","v":1250},{"$f":"Calculation!J330","v":9746},"8.10","PUPUN33333330000000414#~#01/2023#~#61312#~#5107#~#537#~#1250#~#9746#~#8.10"]
["PUPUN33333330000000414","02/2023",{"$f":"Calculation!B331","v":61550},{"$f":"Calculation!D331","v":5127},{"$f":"Calculation!E331","v":540},{"$f":"Calculation!F331","v":1250},{"$f":"Calculation!J331","v":9798},"8.10","PUPUN33333330000000414#~#02/2023#~#61550#~#5127#~#540#~#1250#~#9798#~#8.10"]
["PUPUN33333330000000414","03/2023",{"$f":"Calculation!B332","v":0},{"$f":"Calculation!D332","v":0},{"$f":"Calculation!E332","v":0},{"$f":"Calculation!F332","v":0},{"$f":"Calculation!J332","v":0},"8.10","PUPUN33333330000000414#~#03/2023#~#0#~#0#~#0#~#0#~#0#~#8.10"]
["PUPUN33333330000000414","04/2023",{"$f":"Calculation!B333","v":0},{"$f":"Calculation!D333","v":0},{"$f":"Calculation!E333","v":0},{"$f":"Calculation!F333","v":0},{"$f":"Calculation!J333","v":0},"8.10","PUPUN33333330000000414#~#04/2023#~#0#~#0#~#0#~#0#~#0#~#8.10"]

{"sheet":"Help","index":2,"n_rows":9,"n_cols":2,"rows_kept":9,"cut":false,"hidden":false,"merged":[]}
[1,"Update 1 in the D1 cell of the Calculation sheet if member is a pensioner and update 2 in case of non Pensioner/Live member"]
[2,"Update \"Basic+D.A.\" in column no. 2 of the calculation sheet for the applicable months. For not applicable months update 0"]
[3,"Update pension contribution already paid in the column no. 6 \"Pension Contribution On Pensionable Salary (Paid by the\nemployer earlier)\" of the Calculation sheet. For not applicable months update 0"]
[4,"Update Member ID is the column no. 1 of the Upload sheet"]
[5,"Interest rates considered as per EPFO. In case there is any change in the interest rate, you will have to change the rate in both the sheets"]
[6,"Copy only the applicable months from \"Text\" column of the Upload sheet and paste into a notepad to create Uploadable text file"]
[7,"Contribution cycle considered as March to Feb"]
[8,"Please do not Edit/Alter any value of the Yellow highlighted columns as it contains formula"]
[9,"For any assistance kindly get in touch with our support team"]